BEGIN:VCALENDAR
VERSION:2.0
PRODID:http://www.infomax-online.de/imxeventmanager/
METHOD:PUBLISH
BEGIN:VTIMEZONE
TZID:Europe/Berlin
TZURL:http://tzurl.org/zoneinfo-outlook/Europe/Berlin
X-LIC-LOCATION:Europe/Berlin
END:VTIMEZONE
BEGIN:VEVENT
UID:69ed94ac17c21
LOCATION:Putlitzer Straße 25, 19370 Parchim
SUMMARY;ENCODING=QUOTED-PRINTABLE:Literaturkonzert: „Deutschland, siehst du das nicht?“
DESCRIPTION;ENCODING=QUOTED-PRINTABLE:Bläserquintett OPUS 45 und Schauspieler Roman Knižka sind im=0D=0ASolitär Parchim zu Gast. Der Eintritt ist frei!=0D=0A=0D=0AMit ihrem Literaturkonzert „Deutschland, siehst du das nicht?“=0D=0Averbinden sie Musik und Texte aus der Zeit der späten Weimarer=0D=0ARepublik. Werke u. a. von Hanns Eisler, Kurt Weill, Erwin Schulhoff,=0D=0AJean Françaix, Paul Juon, ebenso wie Swing und Schlager von Cole=0D=0APorter oder den Comedian Harmonists treffen auf Texte von u. a. Kurt=0D=0ATucholsky, Erich Kästner, Mascha Kaléko, Victor Klemperer, Sebastian=0D=0AHaffner und Dorothy Thompson. Gemeinsam zeichnen sie die Entwicklung=0D=0Avon den kulturellen Aufbrüchen der 1920er Jahre bis zur=0D=0AMachtübernahme der Nationalsozialisten nach.=0D=0A=0D=0AIm Zentrum des Programms steht eine Frage, die bis heute aktuell ist:=0D=0AWelche Lehren ziehen wir aus dem Scheitern der ersten deutschen=0D=0ADemokratie?=0D=0A=0D=0ADie Veranstaltung ist Teil der Veranstaltungsreihe der Mahn- und=0D=0AGedenkstätten Wöbbelin anlässlich des Jahrestages der Befreiung des=0D=0AKonzentrationslagers Wöbbelin am 2. Mai 1945. Sie ist gefördert=0D=0Adurch die Landeszentrale für politische Bildung=0D=0AMecklenburg-Vorpommern.=0D=0A=0D=0ASonntag, 26. April 2026=0D=0ABeginn: 15:00 Uhr | Einlass: 14:30 Uhr=0D=0ASolitär Parchim, Putlitzer Str. 25=0D=0A
URL;VALUE=URI:https://hamburgwhl.infomaxnet.de/standard_widget_de/e-literaturkonzert-deutschland-siehst-du-das-nicht?eventDateId=30189249&widgetToken=22vcqFKw4GE.&
CLASS:PUBLIC
DTSTART:20260426T150000
DTSTAMP:20260426T062932
END:VEVENT
END:VCALENDAR