BEGIN:VCALENDAR
VERSION:2.0
PRODID:http://www.infomax-online.de/imxeventmanager/
METHOD:PUBLISH
BEGIN:VTIMEZONE
TZID:Europe/Berlin
TZURL:http://tzurl.org/zoneinfo-outlook/Europe/Berlin
X-LIC-LOCATION:Europe/Berlin
END:VTIMEZONE
BEGIN:VEVENT
UID:69ed92efdca67
LOCATION:Am Bahnhof , 24568 Kaltenkirchen
SUMMARY;ENCODING=QUOTED-PRINTABLE:Kaltenkirchen - Himmelmoor
DESCRIPTION;ENCODING=QUOTED-PRINTABLE:Angebot der Kaki-Radler von Kaltenkirchen zum Himmelmoor mir Einkehr=0D=0AKategorie:Tagestour=0D=0AGeeignet für: Alltagsrad, Mountainbike, Pedelec=0D=0ALänge: 50 km =0D=0ABesondere Zielgruppen:=0D=0A
URL;VALUE=URI:https://hamburgwhl.infomaxnet.de/standard_widget_de/e-kaltenkirchen-himmelmoor?eventDateId=30189182&widgetToken=22vcqFKw4GE.&
CLASS:PUBLIC
DTSTART:20260426T100000
DTSTAMP:20260426T062207
END:VEVENT
END:VCALENDAR