BEGIN:VCALENDAR
VERSION:2.0
PRODID:http://www.infomax-online.de/imxeventmanager/
METHOD:PUBLISH
BEGIN:VTIMEZONE
TZID:Europe/Berlin
TZURL:http://tzurl.org/zoneinfo-outlook/Europe/Berlin
X-LIC-LOCATION:Europe/Berlin
END:VTIMEZONE
BEGIN:VEVENT
UID:69ea4b3c0f46a
LOCATION:Bundesstraße 52, 20146 Hamburg
SUMMARY;ENCODING=QUOTED-PRINTABLE:City Nature Challenge 2026
DESCRIPTION;ENCODING=QUOTED-PRINTABLE:Was ist die City Nature Challenge?=0D=0A=0D=0ADie City Nature Challenge (CNC) ist ein internationaler Wettbewerb,=0D=0Abei dem Bürgerinnen und Bürger aus aller Welt bei einem Bioblitz=0D=0Agemeinsam Fotos von wild lebenden Tieren und Pflanzen sammeln. Mach=0D=0Amit und lade deine Funde in die iNaturalist-App hoch!=0D=0A=0D=0AKomm mit auf Beobachtungstour!=0D=0A=0D=0ASamstag, 25. April, 10 Uhr mit Dr. Karina Brandão im=0D=0ALoki-Schmidt-Garten (Klein Flottbek)=0D=0A=0D=0AIm Loki-Schmidt-Garten gehen wir bei der City Nature Challenge=0D=0Agemeinsam auf Schmetterlings-Tour und halten fest, was sonst oft=0D=0Aübersehen wird. Jede Beobachtung zählt – und macht sichtbar, wie=0D=0Avielfältig und schützenswert die Natur direkt vor unserer Haustür=0D=0Aist.=0D=0A=0D=0AAnmeldung: veranstaltungen-hamburg@leibniz-lib.de=0D=0A
URL;VALUE=URI:https://hamburgwhl.infomaxnet.de/standard_widget_de/e-city-nature-challenge-2026?eventDateId=30188907&widgetToken=22vcqFKw4GE.&
CLASS:PUBLIC
DTSTART:20260425T100000
DTSTAMP:20260423T183924
END:VEVENT
END:VCALENDAR