BEGIN:VCALENDAR
VERSION:2.0
PRODID:http://www.infomax-online.de/imxeventmanager/
METHOD:PUBLISH
BEGIN:VTIMEZONE
TZID:Europe/Berlin
TZURL:http://tzurl.org/zoneinfo-outlook/Europe/Berlin
X-LIC-LOCATION:Europe/Berlin
END:VTIMEZONE
BEGIN:VEVENT
UID:69ea0a08c726d
LOCATION:Bundesstraße 52, 20146 Hamburg
SUMMARY;ENCODING=QUOTED-PRINTABLE:Filmnachmittag mit Basteln
DESCRIPTION;ENCODING=QUOTED-PRINTABLE:Wir schauen gemeinsam den kindgerechten Kurzfilm “Wie arbeitet ein=0D=0ATierpräparator?” zum Thema unserer Sonderausstellung “Menschen=0D=0Amachen Museum – Fokus Präparation”. Im Anschluss basteln wir in=0D=0Ader Tiger Lounge (Zoologische Ausstellung) tierische Motive. Von 15=0D=0Abis 17 Uhr können Kinder und Familien kostenlos teilnehmen.=0D=0A=0D=0ADer Nachmittag im Überblick:=0D=0A=0D=0AKurzfilm (Start 15 Uhr, Laufzeit etwa 20 Minuten)=0D=0A=0D=0ABastelaktion=0D=0A=0D=0AWir freuen uns auf Euch!=0D=0A=0D=0AEine Kooperation mit dem LWL-Medienzentrum für Westfalen.=0D=0A
URL;VALUE=URI:https://hamburgwhl.infomaxnet.de/standard_widget_de/e-filmnachmittag-mit-basteln?eventDateId=30188903&widgetToken=22vcqFKw4GE.&
CLASS:PUBLIC
DTSTART:20260423T150000
DTSTAMP:20260423T140112
END:VEVENT
END:VCALENDAR