BEGIN:VCALENDAR
VERSION:2.0
PRODID:http://www.infomax-online.de/imxeventmanager/
METHOD:PUBLISH
BEGIN:VTIMEZONE
TZID:Europe/Berlin
TZURL:http://tzurl.org/zoneinfo-outlook/Europe/Berlin
X-LIC-LOCATION:Europe/Berlin
END:VTIMEZONE
BEGIN:VEVENT
UID:69e7ff011cd00
LOCATION:Norderelbstraße 8, 20457 Hamburg
SUMMARY;ENCODING=QUOTED-PRINTABLE:MJ - Das Michael Jackson Musical
DESCRIPTION;ENCODING=QUOTED-PRINTABLE:Eine Veranstaltung der Reihe MJ - Das Michael Jackson Musical in=0D=0AHamburg=0D=0A=0D=0ARund um die Entstehungsgeschichte der 1992er=0D=0A„Dangerous“-Welttournee präsentiert MJ – Das Michael Jackson=0D=0AMusical einige der beliebtesten und meistverkauften Songs der=0D=0AMusikgeschichte überhaupt und geht über die einzigartigen Moves und=0D=0Aden unverwechselbaren Sound des Stars weit hinaus – mit seltenen=0D=0AEinblicken in den Teamgeist und die schöpferische Kraft, die Michael=0D=0AJackson zur Legende machten.=0D=0A=0D=0AAUFWENDIGER CASTING PROZESS=0D=0A=0D=0ADie Castings für diese außergewöhnliche Musical-Produktion haben=0D=0Abereits begonnen. Stage Entertainment Deutschland Casting Director=0D=0ARalf Schaedler erläutert: „Es ist für unser Team eine große=0D=0AHerausforderung, einen Darsteller zu finden, der an die Strahlkraft=0D=0Aeines Michael Jackson heranreicht: einen Künstler, der nahezu wie=0D=0AMichael Jackson geht, sich bewegt, singt und seine künstlerische Aura=0D=0Ahat – dabei aber kein Imitator ist. Hinzu kommt, dass das Musical=0D=0Adas Schaffen von Michael Jackson in mehreren Jahrzehnten zeigt.=0D=0ADeshalb suchen wir Jungen im Alter von rund 10 Jahren, Jugendliche im=0D=0Aspäten Teenage-Alter bis Anfang 20, sowie Darsteller für den=0D=0Aerwachsenen Michael Jackson.“=0D=0A=0D=0AJana Nagy, Künstlerische Leitung für Kinderdarstellende im Stage=0D=0ATheater an der Elbe, ergänzt: „Wir suchen Jungen, die Spaß daran=0D=0Ahaben zu performen. Wichtigste Voraussetzung ist die Freude am Singen=0D=0Aund Tanzen. Theatererfahrung ist nicht notwendig. Wir freuen uns auf=0D=0Aviele Bewerbungen von jungen Talenten, die in die Rolle eines=0D=0AWeltstars schlüpfen und vor großem Publikum auftreten wollen“.=0D=0A=0D=0AVIELFACH AUSGEZEICHNETES KREATIVTEAM=0D=0A=0D=0AEin hochkarätiges internationales Kreativteam hat das MJ – Das=0D=0AMichael Jackson Musical entwickelt: Das Buch stammt aus der Feder der=0D=0Azweifachen Pulitzer-Preisträgerin Lynn Nottage („Ruined“,=0D=0ASweat“). Regie und Choreografie verantwortet Christopher Wheeldon=0D=0AOBE, Associate Artist des London Royal Ballet, der für MJ mit dem=0D=0ATony Award für die beste Choreografie eines Musicals ausgezeichnet=0D=0Awurde und zu dessen früheren preisgekrönten Regiearbeiten „An=0D=0AAmerican in Paris“ zählt. Das Bühnenbild hat der mit Tony Award=0D=0Aund zweifachem Emmy Award prämierte Derek McLane („Moulin Rouge!=0D=0ADas Musical”) entwickelt, das Lichtdesign die gefeierte sechsfache=0D=0ATony Award Gewinnerin Natasha Katz (“An American in Paris“),=0D=0AKostümdesign von Tony Award und Emmy Award Gewinner Paul Tazewell=0D=0A(„Hamilton“), Sound Design von Tony Award und Olivier Award=0D=0APreisträger Gareth Owen („Come From Away“), das Projection Design=0D=0Astammt von Peter Nigrini, der zweimal für den Tony Award nominiert=0D=0Awar („Dear Evan Hansen“), Haare & Perücken vom zweifach Emmy=0D=0AAward nominierten Charles LaPointe („The Color Purple“). Die=0D=0AMusical Supervision hat Tony Award Nominee David Holcenberg=0D=0A(„Matilda“), der zusammen mit dem Tony Award Gewinner Jason=0D=0AMichael Webb („The Color Purple“) auch die Orchestrierungen und=0D=0AArrangements verantwortet.=0D=0A
URL;VALUE=URI:https://hamburgwhl.infomaxnet.de/standard_widget_de/e-mj-das-michael-jackson-musical-5?eventDateId=30188490&widgetToken=22vcqFKw4GE.&
CLASS:PUBLIC
DTSTART:20260421T190000
DTSTAMP:20260422T004937
END:VEVENT
END:VCALENDAR