BEGIN:VCALENDAR
VERSION:2.0
PRODID:http://www.infomax-online.de/imxeventmanager/
METHOD:PUBLISH
BEGIN:VTIMEZONE
TZID:Europe/Berlin
TZURL:http://tzurl.org/zoneinfo-outlook/Europe/Berlin
X-LIC-LOCATION:Europe/Berlin
END:VTIMEZONE
BEGIN:VEVENT
UID:69e9e6e7cf765
LOCATION:Manfred-Samusch-Straße 3, 22926 Ahrensburg
SUMMARY;ENCODING=QUOTED-PRINTABLE:Freiraumkunst - Wo der Wald zum Atelier wird
DESCRIPTION;ENCODING=QUOTED-PRINTABLE:Unter dem Titel „FREIRAUMKUNST – Wo der Wald zum Atelier wird“=0D=0Apräsentieren die Kinder des AWO Waldkindergartens Ahrensburg ihre=0D=0AKunstwerke vom 7. März bis 29. April in der Treppengalerie der=0D=0AStadtbücherei Ahrensburg. Zur Vernissage am 7. März sind ab 11 Uhr=0D=0Aalle Interessierten herzlich eingeladen die kreativen Arbeiten der=0D=0Ajungen Künstlerinnen und Künstler zu entdecken.=0D=0A=0D=0AKreativität entfaltet sich im Moment, im Spiel und im Tun. Die Natur=0D=0Adient den Kindern dabei als Inspirationsquelle und Atelier zugleich.=0D=0AMit ihrer großen Vielfalt an Materialien, Farben und Formen – im=0D=0Astetigen Wechsel der Jahreszeiten – regt sie zu freiem,=0D=0Akünstlerischem Schaffen an. So entstehen zahlreiche fantasievolle=0D=0AWerke, die die besondere Verbindung zwischen Naturerlebnis und=0D=0AKreativität eindrucksvoll widerspiegeln.=0D=0A=0D=0ADie Ausstellung steht unter dem Motto „NATÜRLICH SCHÖN.“ und=0D=0Alädt Besucherinnen und Besucher ein, die Welt aus der Perspektive der=0D=0AKinder neu zu entdecken. Die Ausstellung ist während der=0D=0AÖffnungszeiten der Stadtbücherei, Manfred-Samusch-Str.3, frei=0D=0Azugänglich.=0D=0A=0D=0AVeranstalter: Stadtbücherei Ahrensburg=0D=0A
URL;VALUE=URI:https://hamburgwhl.infomaxnet.de/standard_widget_de/e-freiraumkunst-wo-der-wald-zum-atelier-wird?eventDateId=30188225&widgetToken=22vcqFKw4GE.&
CLASS:PUBLIC
DTSTART:20260425T100000
DTSTAMP:20260423T113119
END:VEVENT
END:VCALENDAR