BEGIN:VCALENDAR
VERSION:2.0
PRODID:http://www.infomax-online.de/imxeventmanager/
METHOD:PUBLISH
BEGIN:VTIMEZONE
TZID:Europe/Berlin
TZURL:http://tzurl.org/zoneinfo-outlook/Europe/Berlin
X-LIC-LOCATION:Europe/Berlin
END:VTIMEZONE
BEGIN:VEVENT
UID:69ead230f0cf5
LOCATION:Hauptstraße , 21684 Agathenburg
SUMMARY;ENCODING=QUOTED-PRINTABLE:Klanginstallation LBDB-Vom Urknall bis zum Tod der Sonne
DESCRIPTION;ENCODING=QUOTED-PRINTABLE:Klanginstallation=0D=0A=0D=0AMusikalische Reise im Schloss Agathenburg!=0D=0ADie für das Festival eigens komponierte Klanginstallation des=0D=0Airanischen Komponisten Rouzbeh Rafie können Sie im faszinierenden=0D=0AEiskeller von Schloss Agathenburg erleben. Akustik und Atmosphäre=0D=0Asind einzigartig. =0D=0A=0D=0ABesucherinnen und Besucher sind eingeladen, den Eiskeller zu betreten,=0D=0Aso lange zu verweilen, wie sie möchten, und den Raum jederzeit wieder=0D=0Azu verlassen. =0D=0AKlang und Raum interagieren, sodass jeder Moment individuell erlebbar=0D=0Aist.=0D=0AEintritt frei!=0D=0A
URL;VALUE=URI:https://hamburgwhl.infomaxnet.de/standard_widget_de/e-klanginstallation-lbdb-vom-urknall-bis-zum-tod-der-sonne?eventDateId=30188116&widgetToken=22vcqFKw4GE.&
CLASS:PUBLIC
DTSTART:20260424T140000
DTSTAMP:20260424T041512
END:VEVENT
END:VCALENDAR