BEGIN:VCALENDAR
VERSION:2.0
PRODID:http://www.infomax-online.de/imxeventmanager/
METHOD:PUBLISH
BEGIN:VTIMEZONE
TZID:Europe/Berlin
TZURL:http://tzurl.org/zoneinfo-outlook/Europe/Berlin
X-LIC-LOCATION:Europe/Berlin
END:VTIMEZONE
BEGIN:VEVENT
UID:69e8b9a8a88a6
LOCATION:Im Thurow 18, 23948 Klütz
SUMMARY;ENCODING=QUOTED-PRINTABLE:Hatha Yoga für alle
DESCRIPTION;ENCODING=QUOTED-PRINTABLE:einfachnuryoga im Thurow 18, 23948 Klütz, =0D=0A=0D=0ADieser Kurs kann von allen besucht werden, die Lust haben=0D=0Aauf  Bewegung und Entspannung. Sowohl Yoga Anfänger, als auch Yoga=0D=0AErfahrene werden in diesem Kurs auf ihre Kosten kommen. Für jeden=0D=0Awird die richtige Übung gefunden und alle werden sich gestärkt und=0D=0Atiefenentspannt fühlen. Geübt werden Yogahaltungen, Atemübungen und=0D=0AEntspannungstechniken.=0D=0A=0D=0AKursgebühr: 19 €=0D=0A=0D=0ABei Bedarf Abholung aus Boltenhagen.=0D=0A=0D=0AAnmeldung bei Susann Schramm Tel.: 0176-23551236=0D=0A
URL;VALUE=URI:https://hamburgwhl.infomaxnet.de/standard_widget_de/e-hatha-yoga-fuer-alle?eventDateId=30186380&widgetToken=22vcqFKw4GE.&
CLASS:PUBLIC
DTSTART:20260421T190000
DTSTAMP:20260422T140600
END:VEVENT
END:VCALENDAR