BEGIN:VCALENDAR
VERSION:2.0
PRODID:http://www.infomax-online.de/imxeventmanager/
METHOD:PUBLISH
BEGIN:VTIMEZONE
TZID:Europe/Berlin
TZURL:http://tzurl.org/zoneinfo-outlook/Europe/Berlin
X-LIC-LOCATION:Europe/Berlin
END:VTIMEZONE
BEGIN:VEVENT
UID:69e8e9088f995
LOCATION:Im Thurow 18, 23948 Klütz
SUMMARY;ENCODING=QUOTED-PRINTABLE:Hatha Yoga sanft mit Yin (Studio & Online)
DESCRIPTION;ENCODING=QUOTED-PRINTABLE:einfachnuryoga, Im Thurow 18, 23948 Klütz=0D=0A=0D=0ADieser Kurs richtet sich an diejenigen, die den Mut haben der=0D=0ASchnelligkeit des Alltags zu entfliehen, um eine tiefe körperliche=0D=0AErfahrung zu machen und auf allen ebenen Entspannung erfahren möchte.=0D=0ADurch das lange verweilen in liegenden und sitzenden Positionen=0D=0Aerreichen wir die tiefliegenden Gewebe und Organe unseres Körpers.=0D=0A=0D=0AAchtung: die Kurse werden Online via Zoom sowie im Studio angeboten.=0D=0A=0D=0ABei Bedarf Abholung aus Boltenhagen.=0D=0A=0D=0AKursgebühr: 19 €=0D=0A=0D=0AAnmeldung bei Susann Schramm Tel.: 0176-23551236=0D=0A
URL;VALUE=URI:https://hamburgwhl.infomaxnet.de/standard_widget_de/e-hatha-yoga-sanft-mit-yin?eventDateId=30186307&widgetToken=22vcqFKw4GE.&
CLASS:PUBLIC
DTSTART:20260423T170000
DTSTAMP:20260422T172808
END:VEVENT
END:VCALENDAR