BEGIN:VCALENDAR
VERSION:2.0
PRODID:http://www.infomax-online.de/imxeventmanager/
METHOD:PUBLISH
BEGIN:VTIMEZONE
TZID:Europe/Berlin
TZURL:http://tzurl.org/zoneinfo-outlook/Europe/Berlin
X-LIC-LOCATION:Europe/Berlin
END:VTIMEZONE
BEGIN:VEVENT
UID:69e8b527489e1
LOCATION:Im Thurow 18, 23948 Klütz
SUMMARY;ENCODING=QUOTED-PRINTABLE:Hatha Yoga sanft
DESCRIPTION;ENCODING=QUOTED-PRINTABLE:einfachnuryoga im Thurow 18, 23948 Klütz=0D=0A=0D=0ADer Kurs möchte helfen beim Entschleunigen in einer Zeit, wo es nur=0D=0Adarum geht schnell viel zu schaffen. Wir konzentrieren uns auf das,=0D=0Awas der Körper uns sagt, üben eher sanft (was nicht weniger intensiv=0D=0Abedeutet) und schaffen wieder eine Verbindung von Körper und Geist=0D=0Abeim Erlernen der Asanas (Yogahaltungen) und den=0D=0AKonzentrationsübungen.=0D=0A=0D=0ABei Bedarf Abholung aus Boltenhagen.=0D=0A=0D=0AKursgebühr: 19 €=0D=0A=0D=0AAnmeldung bei Susann Schramm Tel.: 0176-23551236=0D=0A
URL;VALUE=URI:https://hamburgwhl.infomaxnet.de/standard_widget_de/e-hatha-yoga-sanft?eventDateId=30186206&widgetToken=22vcqFKw4GE.&
CLASS:PUBLIC
DTSTART:20260423T100000
DTSTAMP:20260422T134647
END:VEVENT
END:VCALENDAR