BEGIN:VCALENDAR
VERSION:2.0
PRODID:http://www.infomax-online.de/imxeventmanager/
METHOD:PUBLISH
BEGIN:VTIMEZONE
TZID:Europe/Berlin
TZURL:http://tzurl.org/zoneinfo-outlook/Europe/Berlin
X-LIC-LOCATION:Europe/Berlin
END:VTIMEZONE
BEGIN:VEVENT
UID:69e9e8e145f20
LOCATION:Große Elbstraße 68, 22767 Hamburg
SUMMARY;ENCODING=QUOTED-PRINTABLE:Produzierende Designer - Talk: Designing Boutique Hotels
DESCRIPTION;ENCODING=QUOTED-PRINTABLE:Die Produzierenden Designer laden zu einem Abend mit Alexander Garbe,=0D=0AGesellschafter von stilwerk und stilwerk Hotels, ein.=0D=0A=0D=0AAlles wird sich um die Gestaltung von Räumen drehen und den Anspruch,=0D=0AGeschichte, Architektur und Atmosphäre in Einklang zu bringen. Nach=0D=0Aeinem kurzen Vortrag soll in lockerer Atmosphäre diskutiert werden.=0D=0A=0D=0AAlexander Garbe ist seit über 20 Jahren in der Immobilien-, Design-=0D=0Aund Hospitality-Branche tätig. Er kreiert mit dem stilwerk eine=0D=0Aeuropaweit etablierte Designplattform, die Handel, Markenentwicklung=0D=0Aund Hospitality miteinander verbindet.=0D=0A
URL;VALUE=URI:https://hamburgwhl.infomaxnet.de/standard_widget_de/e-produzierende-designer-talk-designing-boutique-hotels?eventDateId=30186060&widgetToken=22vcqFKw4GE.&
CLASS:PUBLIC
DTSTART:20260423T183000
DTSTAMP:20260423T113945
END:VEVENT
END:VCALENDAR