BEGIN:VCALENDAR
VERSION:2.0
PRODID:http://www.infomax-online.de/imxeventmanager/
METHOD:PUBLISH
BEGIN:VTIMEZONE
TZID:Europe/Berlin
TZURL:http://tzurl.org/zoneinfo-outlook/Europe/Berlin
X-LIC-LOCATION:Europe/Berlin
END:VTIMEZONE
BEGIN:VEVENT
UID:69e9ffcc63328
LOCATION:Willy-Brandt-Straße 1, 21335 Lüneburg
SUMMARY;ENCODING=QUOTED-PRINTABLE:Vortrag: Lange selbstständig und zu Hause leben
DESCRIPTION;ENCODING=QUOTED-PRINTABLE: =0D=0A=0D=0AVORTRAG DES SOZIALVERBANDES DEUTSCHLAND, ORTSVERBAND LÜNEBURG=0D=0A=0D=0AMargret Backeberg von den Lüneburger Alterslotsen informiert in=0D=0Adiesem Vortrag über das Thema "Lange selbstständig und zu Hause=0D=0Aleben".=0D=0A=0D=0ADIE LÜNEBURGER ALTERSLOTSEN=0D=0A=0D=0ADie Alterslotsen helfen älteren Menschen sich in einem immer=0D=0Akomplexer werdenden Gesundheitssystem zurechtzufinden. Sie bieten=0D=0AInformationen zu Gesundheitsbelangen und dem Leben im Alter und=0D=0Abegleiten die älteren Menschen über einen längeren Zeitraum. In=0D=0Aenger Abstimmung mit dem behandelnden Hausarzt unterstützen die=0D=0AAlterslotsen durch Beratung und Koordination der erforderlichen=0D=0AMaßnahmen.=0D=0A=0D=0A =0D=0A
URL;VALUE=URI:https://hamburgwhl.infomaxnet.de/standard_widget_de/e-vortrag-lange-selbststaendig-und-zu-hause-leben?eventDateId=30186004&widgetToken=22vcqFKw4GE.&
CLASS:PUBLIC
DTSTART:20260423T170000
DTSTAMP:20260423T131732
END:VEVENT
END:VCALENDAR