BEGIN:VCALENDAR
VERSION:2.0
PRODID:http://www.infomax-online.de/imxeventmanager/
METHOD:PUBLISH
BEGIN:VTIMEZONE
TZID:Europe/Berlin
TZURL:http://tzurl.org/zoneinfo-outlook/Europe/Berlin
X-LIC-LOCATION:Europe/Berlin
END:VTIMEZONE
BEGIN:VEVENT
UID:69ed825aceb60
LOCATION:Schiffertorsstraße 6, 21682 Stade
SUMMARY;ENCODING=QUOTED-PRINTABLE:Theater-Frühstück
DESCRIPTION;ENCODING=QUOTED-PRINTABLE:Gemeinsames Frühstück im Stadeum=0D=0A=0D=0ATheater-FrühstückSPIELZEITVORSTELLUNG 2026/2027=0D=0AKulturhungrig? Beim Theater-Frühstück des STADEUM bekommen nicht nur=0D=0Ader Leib, sondern auch der Geist Nahrhaftes serviert. In=0D=0Aliebgewonnener Tradition lädt das STADEUM erneut alle=0D=0ATheaterbegeisterten und Neugierigen ein, sich bei einem leckeren=0D=0AFrühstück auf der STADEUM-Bühne das Programm der kommenden=0D=0ASpielzeit 2026/2027 vorstellen zu lassen.=0D=0AOb Schauspiel, Konzerte, Comedy oder Lesung – auch die kommende=0D=0ASaison hält einen vielfältigen Spielplan bereit.=0D=0ADort, unter den Scheinwerfern, wo sonst die Künstler*innen ihr Bestes=0D=0Ageben, darf an diesem Vormittag das Publikum den Blick in den=0D=0AZuschauerraum genießen und Bühnenluft schnuppern. An großen=0D=0ATischen, bei Kaffee, Tee und Frühstücks-Speisen, werden vom=0D=0ASTADEUM-Team exklusiv heiße Geheimtipps, Wissenswertes und=0D=0AUnterhaltsames rund um den Spielplan serviert, so dass die Anwesenden=0D=0Aperfekt vorbereitet in die neue Spielzeit starten können.=0D=0ADas leckere Buffet wird von Partyservice Waida kredenzt. Die=0D=0ASitzplatzkapazität ist beschränkt.=0D=0A =0D=0A
URL;VALUE=URI:https://hamburgwhl.infomaxnet.de/standard_widget_de/e-theater-fruehstueck-1?eventDateId=30185656&widgetToken=22vcqFKw4GE.&
CLASS:PUBLIC
DTSTART:20260426T090000
DTSTAMP:20260426T051122
END:VEVENT
END:VCALENDAR