BEGIN:VCALENDAR
VERSION:2.0
PRODID:http://www.infomax-online.de/imxeventmanager/
METHOD:PUBLISH
BEGIN:VTIMEZONE
TZID:Europe/Berlin
TZURL:http://tzurl.org/zoneinfo-outlook/Europe/Berlin
X-LIC-LOCATION:Europe/Berlin
END:VTIMEZONE
BEGIN:VEVENT
UID:69ed55c215963
LOCATION:Hammeweg 10-12, 27726 Worpswede
SUMMARY;ENCODING=QUOTED-PRINTABLE:Torfkahnarmada 2026
DESCRIPTION;ENCODING=QUOTED-PRINTABLE:Die Reise der Torfkahnflotte vom Teufelsmoor nach Bremen und wieder=0D=0Azurück=0D=0A=0D=0AAlle drei Jahre kommt es zu einem besonderen maritimen Schauspiel auf=0D=0AHamme und Wümme: die Flotte der Torfkähne aus dem Kulturland=0D=0ATeufelsmoor begibt sich auf eine große Reise Richtung Bremen. Leinen=0D=0Alos!=0D=0A=0D=0ADie Torfkähne aus dem Teufelsmoor fahren zusammen auf den Spuren der=0D=0Ahistorischen Torfschifffahrt gemeinsam von Worpswede nach Bremen. Ihr=0D=0AZiel: der Torfhafen in Bremen-Findorff. Dort werden sie am späten=0D=0ANachmittag eintreffen. Am Sonntag werden die Skipper wieder Ihre=0D=0AHeimreise in das Teufelsmoor antreten.=0D=0A=0D=0AMit dieser  „Torfkahnarmada“ wird an die Bedeutung der=0D=0ATorfschifffahrt auf den Flüssen und Gräben erinnert. Früher waren=0D=0Aes die Moorbauern, die ihre Kähne mit dem Heizmaterial Torf beluden,=0D=0Amit dem sie ihre Kunden in Bremen belieferten. Damals war  "Jan von=0D=0AMoor“ auf den richtigen Wind zum Segeln angewiesen. Blies er nicht,=0D=0Aoder aus der falschen Richtung, stakte oder treidelte er mühsam seine=0D=0AFracht durch die Kanäle. Daher dauerte die Fahrt bis Bremen schon mal=0D=0Abis zu drei Tage. Heutzutage sind die Torfkähne mit Motoren=0D=0Aausgestattet, aber die Segel werden immer noch gern gehisst. Das=0D=0ASpektakel ist ganz besonders sehenswert, da nahezu die gesamte Flotte=0D=0Ader verfügbaren Kähne unterwegs ist. =0D=0A=0D=0AFAHRPLAN DER TORFKAHNARMADA=0D=0A=0D=0AHinfahrt: Samstag, 25.04.2026=0D=0A7:45 Uhr: Start Hammehafen Worpswede=0D=0A8:00 Uhr: Melchers Hütte=0D=0A8:45 Uhr: Tietjens Hütte=0D=0A9:45 - 11:15 Uhr: Ritterhuder Schleuse=0D=0A12:30 - 14:15 Uhr Schleuse Dammsiel=0D=0A15:15 - 16:15 Uhr: Gerkenstau=0D=0Aab 17:00 Uhr: Einlaufparade in den Torfhafen Bremen-Findorff=0D=0ARückfahrt: Sonntag, 26.04.2026=0D=0A=0D=0A8:00 Uhr: Abfahrt Torfhafen, Bremen-Findorff=0D=0A9:00 - 10:00 Uhr: Schleuse Gerkenstau=0D=0A12:00 - 14:00 Uhr: Schleuse Dammsiel=0D=0Aab 15:00 Uhr: Schleuse Ritterhude=0D=0A=0D=0AMehr Infos unter www.kulturland-teufelsmoor.de/torfkahnarmada=0D=0A[http://www.kulturland-teufelsmoor.de/torfkahnarmada].=0D=0A=0D=0ABitte beachten: Eine Mitfahrt auf den historischen Torfkähnen ist=0D=0Awährend dieser besonderen Flottenfahrt nicht möglich. Stattdessen=0D=0Abist du herzlich eingeladen, dieses seltene Schauspiel zuschauend vom=0D=0AUfer aus zu begleiten! Die langsam vorbeiziehende Flotte ist ein=0D=0Aunvergesslicher Anblick.=0D=0A=0D=0ATipp: Kamera nicht vergessen! So ein Anblick bietet sich auf Hamme und=0D=0AWümme nicht alle Tage.=0D=0A=0D=0A =0D=0A
URL;VALUE=URI:https://hamburgwhl.infomaxnet.de/standard_widget_de/e-torfkahnaramada-2026?eventDateId=30185570&widgetToken=22vcqFKw4GE.&
CLASS:PUBLIC
DTSTART:20260426T080000
DTSTAMP:20260426T020106
END:VEVENT
END:VCALENDAR