BEGIN:VCALENDAR
VERSION:2.0
PRODID:http://www.infomax-online.de/imxeventmanager/
METHOD:PUBLISH
BEGIN:VTIMEZONE
TZID:Europe/Berlin
TZURL:http://tzurl.org/zoneinfo-outlook/Europe/Berlin
X-LIC-LOCATION:Europe/Berlin
END:VTIMEZONE
BEGIN:VEVENT
UID:69ed447770bbb
LOCATION:Martinistraße 44a, 20251 Hamburg
SUMMARY;ENCODING=QUOTED-PRINTABLE:Ausstellung: Verlorene Schönheiten. Ausgestorbene Pflanzenarten im=0D=0AEppendorfer Moor
DESCRIPTION;ENCODING=QUOTED-PRINTABLE:Mitten in Hamburg, an der Grenze zwischen Eppendorf und Groß Borstel,=0D=0Aliegt das Eppendorfer Moor, das größte innerstädtische Moor=0D=0AEuropas. Moore übernehmen zahlreiche Funktionen in unserem=0D=0AÖkosystem, sie tragen zum Klimaschutz und zur Biodiversität bei und=0D=0Asind die wichtigsten Kohlenstoffspeicher der Erde.=0D=0A=0D=0AEntstanden nach der letzten Eiszeit als Rest der Alstertalniederungen,=0D=0Awurde das Eppendorfer Moor schon im Mittelalter wirtschaftlich=0D=0Agenutzt. Nachhaltigen Einfluss auf die Böden, Pflanzen- und Tierwelt=0D=0Ahatten aber vor allem historische Projekte und Ereignisse wie die=0D=0AUrbanisierung Hamburgs, die Alsterkanalisierung und die Weltkriege.=0D=0AGroße Anziehungskraft übte das Moor auf Pflanzeninteressierte und=0D=0ASammler aus, die hier etwa den ?Mittleren Sonnentau? erstmalig=0D=0Aentdeckten. Von den ursprünglich im Eppendorfer Moor vorhandenen 429=0D=0AGesamtpflanzenarten gehörten 128 zu den Moorpflanzenarten. Davon=0D=0Afinden sich mittlerweile nur noch 42 Moorpflanzenarten in dem Gebiet,=0D=0A86 sind ausgestorben und auch die noch vorhandenen Arten stehen heute=0D=0Aauf der Roten Liste Deutschlands.=0D=0A=0D=0ADie Ausstellung beleuchtet die vergangene Pflanzenwelt und historische=0D=0AEntwicklung des Moores und klärt über einen behutsamen und=0D=0Aschützenden Umgang mit diesem einzigartigen Biotop auf.=0D=0A=0D=0AVeranstalter: Geschichtswerkstatt Eppendorf=0D=0A[https://geschichtswerkstatt-eppendorf.de/termin/ausstellung-verlorene-schoenheiten-ausgestorbene-pflanzen-im-eppendorfer-moor/]=0D=0A=0D=0ABesichtigungszeiten i.d.R. Mo - Fr, 11:00 - 18:00.=0D=0A
URL;VALUE=URI:https://hamburgwhl.infomaxnet.de/standard_widget_de/e-ausstellung-verlorene-schoenheiten-ausgestorbene-pflanzenarten-im-eppendorfer-moor-2?eventDateId=30184761&widgetToken=22vcqFKw4GE.&
CLASS:PUBLIC
DTSTART:20260429T110000
DTSTAMP:20260426T004719
END:VEVENT
END:VCALENDAR