BEGIN:VCALENDAR
VERSION:2.0
PRODID:http://www.infomax-online.de/imxeventmanager/
METHOD:PUBLISH
BEGIN:VTIMEZONE
TZID:Europe/Berlin
TZURL:http://tzurl.org/zoneinfo-outlook/Europe/Berlin
X-LIC-LOCATION:Europe/Berlin
END:VTIMEZONE
BEGIN:VEVENT
UID:69ea14254e6c5
LOCATION:Am Gojenboom 46, 22111 Hamburg
SUMMARY;ENCODING=QUOTED-PRINTABLE:Buchclub Horn
DESCRIPTION;ENCODING=QUOTED-PRINTABLE:Für alle, die Bücher lieben und gerne gemeinsam darüber sprechen:=0D=0AWir widmen uns "Mama, bitte lern Deutsch" von Tahsim Durgun=0D=0A[https://www2.buecherhallen.de/search?term=mama+bitte+lern&field=&sort=any&limit=&target=&listview=false&offset=0]=0D=0A- erzählt über das Aufwachsen zwischen Verantwortung, Ausgrenzung=0D=0Aund Identität in Deutschland. Mit scharfem Witz und großer=0D=0AEhrlichkeit erzählt er von postmigrantischer Lebensrealität und=0D=0Alädt zur gemeinsamen Diskussion ein.=0D=0A=0D=0AErgänzend nehmen wir auch "The Hate U Give" von Angie Thomas=0D=0A[https://www2.buecherhallen.de/search?term=angie+thomas&field=&sort=any&limit=&target=&listview=false]=0D=0Ain den Blick: ein kraftvoller Roman über Rassismus, Polizeigewalt und=0D=0Adas Finden der eigenen Stimme zwischen zwei Welten.=0D=0A=0D=0AKommt vorbei, bringt eure Gedanken mit - und lasst uns gemeinsam in=0D=0Adie Lektüre eintauchen.=0D=0A=0D=0Amit johanna sarah schmidt | text | bühne | workshops & coaching=0D=0A
URL;VALUE=URI:https://hamburgwhl.infomaxnet.de/standard_widget_de/e-buchclub-horn-3?eventDateId=30184738&widgetToken=22vcqFKw4GE.&
CLASS:PUBLIC
DTSTART:20260429T183000
DTSTAMP:20260423T144421
END:VEVENT
END:VCALENDAR