BEGIN:VCALENDAR
VERSION:2.0
PRODID:http://www.infomax-online.de/imxeventmanager/
METHOD:PUBLISH
BEGIN:VTIMEZONE
TZID:Europe/Berlin
TZURL:http://tzurl.org/zoneinfo-outlook/Europe/Berlin
X-LIC-LOCATION:Europe/Berlin
END:VTIMEZONE
BEGIN:VEVENT
UID:69e5bf6eb308d
LOCATION:Klützer Straße 1b, 23936 Grevesmühlen
SUMMARY;ENCODING=QUOTED-PRINTABLE:Saisoneröffnung der Beet-und Balkonpflanzen bei Blumen Mundt
DESCRIPTION;ENCODING=QUOTED-PRINTABLE:Am 24./25. April 2026 laden wir Sie herzlich zur Saisoneröffnung=0D=0Aunserer Beet- und Balkonpflanzen ein. Freuen Sie sich auf ein=0D=0Aabwechslungsreiches Programm sowie Hüpfburg und Kuchenbasar für die=0D=0Aganze Familie.=0D=0A=0D=0ADer Frühling steht vor der Tür – und das möchten wir gemeinsam=0D=0Amit Ihnen feiern!=0D=0A=0D=0AWir laden Sie herzlich zur Saisoneröffnung der Beet- und=0D=0ABalkonpflanzen bei Blumen Mundt ein.=0D=0A=0D=0AFreuen Sie sich auf eine farbenfrohe Saisoneröffnung voller=0D=0AInspiration rund um Pflanzen, Garten und Balkon. Entdecken Sie unsere=0D=0Agroße Auswahl an blühenden Schönheiten und lassen Sie sich von=0D=0Aaktuellen Trends und liebevoll gestalteten Arrangements begeistern.=0D=0A=0D=0ATermin: 24./25. April 2026=0D=0AOrt: Blumen Mundt, Klützer Straße 1b, 23936 Grevesmühlen=0D=0A=0D=0AProgramm=0D=0AFreitag:=0D=0A09:30 Uhr – Kita am Tannenberg=0D=0A15:30 Uhr – GCC Mäuse=0D=0A=0D=0ASamstag:=0D=0A10:30 Uhr – Fundancer=0D=0A14:00 Uhr – Tanzsportgarde Blau-Weiß GVM=0D=0A=0D=0ADas erwartet Sie=0D=0A=0D=0A	* Große Auswahl an Beet- und Balkonpflanzen=0D=0A	* „Pflanze des Jahres“: Zarte Marte=0D=0A	* Unterhaltung für Groß und Klein=0D=0A	* Hüpfburg für Kinder=0D=0A	* Kuchenbasar und weitere Leckereien=0D=0A=0D=0A
URL;VALUE=URI:https://hamburgwhl.infomaxnet.de/standard_widget_de/e-saisoneroeffnung-der-beet-und-balkonpflanzen-bei-blumen-mundt?eventDateId=30184549&widgetToken=22vcqFKw4GE.&
CLASS:PUBLIC
DTSTART:20260424T080000
DTSTAMP:20260420T075350
END:VEVENT
END:VCALENDAR