BEGIN:VCALENDAR
VERSION:2.0
PRODID:http://www.infomax-online.de/imxeventmanager/
METHOD:PUBLISH
BEGIN:VTIMEZONE
TZID:Europe/Berlin
TZURL:http://tzurl.org/zoneinfo-outlook/Europe/Berlin
X-LIC-LOCATION:Europe/Berlin
END:VTIMEZONE
BEGIN:VEVENT
UID:69ea499aa26ab
LOCATION:Sankt Pauli-Elbtunnel , 20359 Hamburg
SUMMARY;ENCODING=QUOTED-PRINTABLE:Mit allen Sinnen
DESCRIPTION;ENCODING=QUOTED-PRINTABLE:Gibt es im Alten Elbtunnel ein Echo? Kann man Tiernamen fühlen?=0D=0ADuften Kaffee- und Kakaobohnen erst wenn sie gemahlen sind? Warum=0D=0Abrauchen wir die Nase zum schmecken? Kann man durch das Wasser der=0D=0AElbe hindurch gucken? Hamburger Besonderheiten und Attraktionen werden=0D=0Amit den fünf menschlichen Sinnen entdeckt. Dabei gibt es so manche=0D=0AÜberraschung...=0D=0A=0D=0AAnmeldung erforderlich unter www.stadterlebnis.hamburg oder=0D=0A0157-50171259.=0D=0A
URL;VALUE=URI:https://hamburgwhl.infomaxnet.de/standard_widget_de/e-mit-allen-sinnen-1?eventDateId=30184292&widgetToken=22vcqFKw4GE.&
CLASS:PUBLIC
DTSTART:20260502T110000
DTSTAMP:20260423T183226
END:VEVENT
END:VCALENDAR