BEGIN:VCALENDAR
VERSION:2.0
PRODID:http://www.infomax-online.de/imxeventmanager/
METHOD:PUBLISH
BEGIN:VTIMEZONE
TZID:Europe/Berlin
TZURL:http://tzurl.org/zoneinfo-outlook/Europe/Berlin
X-LIC-LOCATION:Europe/Berlin
END:VTIMEZONE
BEGIN:VEVENT
UID:69ea31fda928d
LOCATION:Schüttdamm 60, 21756 Osten
SUMMARY;ENCODING=QUOTED-PRINTABLE:Kinderkino
DESCRIPTION;ENCODING=QUOTED-PRINTABLE:Der Schützenverein Schüttdamm-Isensee lädt euch zum Kinderkino ein!=0D=0A=0D=0AVon 15 Uhr bis 17:30 Uhr wird ein Film für alle Kids im Alter von 3 -=0D=0A7 Jahre vorgeführt. Alle 8 - 13 jährigen Kids sind von 19 Uhr bis=0D=0A21:30 Uhr herzlich willkommen.=0D=0A=0D=0ADer Eintritt ist frei!=0D=0AMeldet euch bitte bis zum 20.04.2026 bei Birke Rath an (01590-1281153)=0D=0A=0D=0AWIR FREUEN UNS AUF EUCH!=0D=0A
URL;VALUE=URI:https://hamburgwhl.infomaxnet.de/standard_widget_de/e-kinderkino-37?eventDateId=30184182&widgetToken=22vcqFKw4GE.&
CLASS:PUBLIC
DTSTART:20260425T150000
DTSTAMP:20260423T165141
END:VEVENT
END:VCALENDAR