BEGIN:VCALENDAR
VERSION:2.0
PRODID:http://www.infomax-online.de/imxeventmanager/
METHOD:PUBLISH
BEGIN:VTIMEZONE
TZID:Europe/Berlin
TZURL:http://tzurl.org/zoneinfo-outlook/Europe/Berlin
X-LIC-LOCATION:Europe/Berlin
END:VTIMEZONE
BEGIN:VEVENT
UID:69ea5f8217c22
LOCATION:Am Hohen Kopf 3, 21776 Wanna
SUMMARY;ENCODING=QUOTED-PRINTABLE:Kurze Moorbahnfahrt
DESCRIPTION;ENCODING=QUOTED-PRINTABLE:Du möchtest das Ahlenmoor erleben, hast aber nicht ganz so viel Zeit?=0D=0ADann ist diese kurze Tour genau das Richtige für dich! Bei dieser=0D=0AFahrt erkundest du zwei der vier Haltepunkte und bekommst einen=0D=0Aspannenden ersten Einblick in die besondere Landschaft des größten=0D=0AHochmoors im Cuxland.=0D=0A=0D=0ADie Strecke ist verkürzt, die Erklärungen zum Thema Moor bewusst=0D=0Akompakt gehalten – ideal, wenn du einen schnellen, aber trotzdem=0D=0Aeindrucksvollen Eindruck vom Naturraum Moor bekommen möchtest. Die=0D=0Abeiden Haltepunkte, die tiefer im Naturschutzgebiet liegen, werden bei=0D=0Adieser Tour ausgelassen, wodurch auch nur ein Teil der Gleisstrecke=0D=0Abefahren wird.=0D=0A=0D=0ADurch die kurze Fahrzeit von rund 75 Minuten eignet sich diese=0D=0AMoorbahnfahrt für wirklich jede und jeden. Und gerade an sehr kalten=0D=0Aoder sehr heißen Tagen ist die kompakte Tour eine angenehme=0D=0AAlternative zur langen Fahrt.=0D=0A=0D=0AAnmeldung für Gruppen ab 12 Personen unter Tel. 04778 81200.=0D=0A=0D=0AFür Gäste mit Rollstuhl haben wir selbstverständlich auch Plätze.=0D=0ADu musst dich in diesem Fall vorab bei uns per Mail=0D=0A(mooriz@ahlenmoor.de) oder Telefon 04757-8189558 anmelden, da wir=0D=0Adiese speziell vorbereiten müssen. Ein Onlineticketing ist in diesem=0D=0AFall leider nicht möglich!=0D=0A=0D=0AEs dürfen auf der Moorbahn keine Hunde mitgeführt werden!=0D=0ABei extremen Wetterlagen kann es zu Ausfällen kommen.=0D=0A
URL;VALUE=URI:https://hamburgwhl.infomaxnet.de/standard_widget_de/e-kurze-moorbahnfahrt-4?eventDateId=30183956&widgetToken=22vcqFKw4GE.&
CLASS:PUBLIC
DTSTART:20260426T113000
DTSTAMP:20260423T200554
END:VEVENT
END:VCALENDAR