BEGIN:VCALENDAR
VERSION:2.0
PRODID:http://www.infomax-online.de/imxeventmanager/
METHOD:PUBLISH
BEGIN:VTIMEZONE
TZID:Europe/Berlin
TZURL:http://tzurl.org/zoneinfo-outlook/Europe/Berlin
X-LIC-LOCATION:Europe/Berlin
END:VTIMEZONE
BEGIN:VEVENT
UID:69e76f8178d57
LOCATION:Platz der Deutschen Einheit 1, 20457 Hamburg
SUMMARY;ENCODING=QUOTED-PRINTABLE:Magdalena Kožená / Liederabend
DESCRIPTION;ENCODING=QUOTED-PRINTABLE:Seit mehr als zwei Jahrzehnten begeistert Magdalena Kožená als eine=0D=0Ader weltweit führenden Stimmen ein globales Publikum. Die New York=0D=0ATimes beschrieb ihre einzigartige Präsenz einmal so: »Stimmlich=0D=0Aelegant, emotional direkt und stilistisch versiert.« In der privaten=0D=0AAtmosphäre des Kleinen Saales präsentiert die singende=0D=0AVerwandlungskünstlerin, nur begleitet von Azul Limas einfühlsamem=0D=0ATheorbenspiel, ein Programm mit barocken Klassikern wie Purcells=0D=0Aweltberühmten Klagegesang »When I Am Laid in Earth« oder Arien der=0D=0AKomponistin und Primadonna Barbara Strozzi.=0D=0A=0D=0ABITTE BEACHTEN SIE: Ursprünglich sollte Daniele Caminiti Magdalena=0D=0AKožená bei diesem Konzert auf der Laute begleiten. Caminiti musste=0D=0Aseine Mitwirkung aufgrund einer Handverletzung jedoch leider absagen.=0D=0AFür ihn springt der Theorbist Azul Lima ein. Das Programm bleibt=0D=0Aunverändert.=0D=0A=0D=0ADer Abend pendelt zwischen den Hotspots für frühbarocke Opern- und=0D=0ALiedproduktion England und Italien. John Dowland und Henry Purcell=0D=0Ahaben sich vor allem mit ihren melancholischen Gesängen einen Namen=0D=0Agemacht – und auch die italienische Seite steuert eher klagende=0D=0AAffekte, also Opern-Gefühle, bei.=0D=0A=0D=0ADoch Kožená, stets auf der Suche nach Kontrasten und bereichernden=0D=0ASpannungen, streut auch Höhepunkte jüngeren Datums ein. Brett Deans=0D=0A»Gertrude fragments« übertragen die barocken Ausdrucksgesten von=0D=0AStimme und Laute fantasievoll in unsere Gegenwart und in Luciano=0D=0ABerios »Sequenza« kann Kožená zeigen, dass sie auch ganz ohne=0D=0ABegleitung die schillerndsten Klangwelten entstehen lassen kann.=0D=0A=0D=0ABESETZUNG=0D=0A=0D=0AMAGDALENA KOŽENÁ Mezzosopran=0D=0A=0D=0AAZUL LIMA Theorbe, Romantikgitarre=0D=0A=0D=0APROGRAMM=0D=0A=0D=0AHENRY PURCELL=0D=0AMusic for a While=0D=0A=0D=0AHENRY PURCELL=0D=0ASweeter than Roses=0D=0A=0D=0AJOHN DOWLAND=0D=0AIn Darkness Let Me Dwell=0D=0A=0D=0AAZUL LIMA=0D=0AImprovisation=0D=0A=0D=0ATARQUINIO MERULA=0D=0ACanzonetta spirituale sopra la Nanna »Hor ch’è tempo di dormire«=0D=0A=0D=0AGIOVANNI GIROLAMO KAPSPERGER=0D=0AKapsperger=0D=0A=0D=0ABRETT DEAN=0D=0AGertrude Fragments=0D=0A=0D=0AHENRY PURCELL=0D=0AWhen I am Laid in Earth=0D=0A=0D=0A- Pause -=0D=0A=0D=0ABARBARA STROZZI=0D=0ALagrime mie / Lamento=0D=0A=0D=0AGIOVANNI GIROLAMO KAPSPERGER=0D=0AToccata arpeggiata=0D=0A=0D=0AGIULIO CACCINI=0D=0AOdi, Euterpe, il dolce canto=0D=0A=0D=0AMARC ANTONIO CESTI=0D=0ADisseratevi abissi=0D=0A=0D=0AAZUL LIMA=0D=0APassacaglia (Improvisation)=0D=0A=0D=0ALUCIANO BERIO=0D=0ASequenza III für Frauenstimme=0D=0A=0D=0ATARQUINIO MERULA=0D=0AQuando io voisi l’altra sera=0D=0A
URL;VALUE=URI:https://hamburgwhl.infomaxnet.de/standard_widget_de/e-magdalena-kozena-liederabend?eventDateId=30183678&widgetToken=22vcqFKw4GE.&
CLASS:PUBLIC
DTSTART:20260424T193000
DTSTAMP:20260421T143721
END:VEVENT
END:VCALENDAR