BEGIN:VCALENDAR
VERSION:2.0
PRODID:http://www.infomax-online.de/imxeventmanager/
METHOD:PUBLISH
BEGIN:VTIMEZONE
TZID:Europe/Berlin
TZURL:http://tzurl.org/zoneinfo-outlook/Europe/Berlin
X-LIC-LOCATION:Europe/Berlin
END:VTIMEZONE
BEGIN:VEVENT
UID:69ea16559893b
LOCATION:Willy-Brandt-Allee 10, 23554 Lübeck
SUMMARY;ENCODING=QUOTED-PRINTABLE:POPUP LÜBECK meets GO.GRØØN-Messe
DESCRIPTION;ENCODING=QUOTED-PRINTABLE:POPUP LÜBECK - erlebe spontane Kulturmomente im Rahmen der=0D=0ANachhaltigkeitsmesse GO.GRØØN am 25. und 26. April 2026. •=0D=0Aluebeck-tourismus.de/kultur/popup-luebeck=0D=0A=0D=0AVor der Musik- und Kongresshalle Lübeck wird POPUP LÜBECK im Rahmen=0D=0Ader Nachhaltigkeitsmesse GO.GRØØN zum lebendigen Treffpunkt: Mit=0D=0Amobiler Bühne, Kreativzelt und Bar entstehen offene Räume für=0D=0AAustausch, Kultur und spontane Erlebnisse. Zwischen nachhaltigen=0D=0AInnovationen und inspirierenden Ideen lädt das Format dazu ein,=0D=0AKultur und Nachhaltigkeit unter freiem Himmel neu zu entdecken -=0D=0Aüberraschend, kreativ und mitten im Geschehen.=0D=0A=0D=0AUnser POPUP-Programm findest du über den Link auf dieser Seite oder=0D=0Aauf luebeck-tourismus.de/kultur/popup-luebeck.=0D=0A=0D=0AÖffnungszeiten GO.GRØØN • gogroon.de: 25. und 26. April 2026 von=0D=0A10.00-18.00 Uhr=0D=0A=0D=0AEintritt: frei=0D=0A
URL;VALUE=URI:https://hamburgwhl.infomaxnet.de/standard_widget_de/e-popup-luebeck-meets-gogr00n-messe?eventDateId=30182877&widgetToken=22vcqFKw4GE.&
CLASS:PUBLIC
DTSTART:20260425T100000
DTSTAMP:20260423T145341
END:VEVENT
END:VCALENDAR