BEGIN:VCALENDAR
VERSION:2.0
PRODID:http://www.infomax-online.de/imxeventmanager/
METHOD:PUBLISH
BEGIN:VTIMEZONE
TZID:Europe/Berlin
TZURL:http://tzurl.org/zoneinfo-outlook/Europe/Berlin
X-LIC-LOCATION:Europe/Berlin
END:VTIMEZONE
BEGIN:VEVENT
UID:69ed4448491bc
LOCATION:An der Untertrave 1, 23552 Lübeck
SUMMARY;ENCODING=QUOTED-PRINTABLE:Die Prinzessin auf der Erbse / KOBALT Figurentheater Lübeck
DESCRIPTION;ENCODING=QUOTED-PRINTABLE:nach Hans Christian Andersen=0D=0A=0D=0AHahn Heinrich und Henne Karlotta betrachten von der königlichen=0D=0AGardinenstange aus ihren verrückten Hühnerhof: Steht da mitten im=0D=0ARegen ein Mädchen vor dem Tor - ganz allein und pudelnass und munter=0D=0A- und die Menschen erkennen nicht, dass es eine richtige Prinzessin=0D=0Aist!=0D=0A=0D=0AUnd dann noch das dicke Nest aus lauter Matratzen. Zum Glück spielt=0D=0Aeine Erbse die Hauptrolle - eine Erbse, da läuft einem ja das Wasser=0D=0Aim Schnabel zusammen. Ein Puppenspiel um Aufbruch, Mut und erste Liebe=0D=0Amit vielen Kissen, zwei hungrigen Hühnern und einer Erbse.=0D=0A=0D=0ADie Inszenierung wurde auf dem Internationalen Puppentheaterfestival=0D=0Ain Prag mit dem 3. Preis ausgezeichnet.=0D=0A
URL;VALUE=URI:https://hamburgwhl.infomaxnet.de/standard_widget_de/e-die-prinzessin-auf-der-erbse-kobalt-figurentheater-luebeck?eventDateId=30182822&widgetToken=22vcqFKw4GE.&
CLASS:PUBLIC
DTSTART:20260426T150000
DTSTAMP:20260426T004632
END:VEVENT
END:VCALENDAR