BEGIN:VCALENDAR
VERSION:2.0
PRODID:http://www.infomax-online.de/imxeventmanager/
METHOD:PUBLISH
BEGIN:VTIMEZONE
TZID:Europe/Berlin
TZURL:http://tzurl.org/zoneinfo-outlook/Europe/Berlin
X-LIC-LOCATION:Europe/Berlin
END:VTIMEZONE
BEGIN:VEVENT
UID:69ec09bbc1ad9
LOCATION:Johannes-Brahms-Platz , 20355 Hamburg
SUMMARY;ENCODING=QUOTED-PRINTABLE:Tutty Tran
DESCRIPTION;ENCODING=QUOTED-PRINTABLE:Tutty Trans Geschichten über seinen vietnamesischen Vater samt=0D=0Aliebenswertem Akzent sind längst legendär. Sprüche wie »Kein=0D=0AFlei?« oder »HAI DAI MAU« fluten die sozialen Netzwerke und haben=0D=0Aauch darüber hinaus Kultstatus erreicht. Nun setzt »Deutschlands=0D=0Abekanntester Reisbürger« noch einen drauf: Schonungslos direkt nimmt=0D=0Ader Meister der Culture-Clash-Comedy in seinem neuem Programm=0D=0AKlischees treffsicher aufs Korn – ob sich selbst, die=0D=0Adeutschvietnamesische Kultur oder seine Freunde mit und ohne=0D=0AMigrationshintergrund: Niemand ist vor ihm sicher. Selbst seine=0D=0Asächsische Freundin nicht. Das ist gelebte Comedy-Inklusion!=0D=0A=0D=0AHumor ist für Tutty Tran die perfekte Methode, der großen und=0D=0Akleinen Herausforderungen des Alltags Herr:in zu werden: »Für mich=0D=0Aist ein erfülltes und entspanntes Leben eine Mischung aus=0D=0Averschiedenen Zutaten. Und wie beim Wok schwenken ist es gar nicht so=0D=0Aeinfach, die richtige Balance zu finden«, erklärt er. »Ich will dem=0D=0Agefühlten Wahnsinn des Lebens mit einem breiten Grinsen begegnen. Und=0D=0Aim besten Fall kann ich mein Publikum inspirieren, es auch so zu=0D=0Amachen. Ganz nach dem Motto: ›Wer sich selbst nicht zu ernst nimmt,=0D=0Ahat mehr zu lachen!‹«=0D=0A=0D=0ABESETZUNG=0D=0A=0D=0ATUTTY TRAN Comedian=0D=0A=0D=0APROGRAMM=0D=0A=0D=0A»Wok-Life-Balance«=0D=0A=0D=0A =0D=0A
URL;VALUE=URI:https://hamburgwhl.infomaxnet.de/standard_widget_de/e-tutty-tran?eventDateId=30181815&widgetToken=22vcqFKw4GE.&
CLASS:PUBLIC
DTSTART:20260427T200000
DTSTAMP:20260425T022427
END:VEVENT
END:VCALENDAR