BEGIN:VCALENDAR
VERSION:2.0
PRODID:http://www.infomax-online.de/imxeventmanager/
METHOD:PUBLISH
BEGIN:VTIMEZONE
TZID:Europe/Berlin
TZURL:http://tzurl.org/zoneinfo-outlook/Europe/Berlin
X-LIC-LOCATION:Europe/Berlin
END:VTIMEZONE
BEGIN:VEVENT
UID:69e76fcbc7bb7
LOCATION:Große Freiheit 58, 22767 Hamburg
SUMMARY;ENCODING=QUOTED-PRINTABLE:Hypocrisy - Mass Hallucination Tour 2026
DESCRIPTION;ENCODING=QUOTED-PRINTABLE:HYPOCRISY ANNOUNCE THE “MASS HALLUCINATION” EUROPEAN TOUR 2026 =0D=0A=0D=0ASwedish death metal titans HYPOCRISY are thrilled to announce the Mass=0D=0AHallucination Tour 2026, set to bring their signature blend of melodic=0D=0Abrutality across Europe.=0D=0A=0D=0AJoining the madness are none other than Abbath, bringing his=0D=0Aunmistakable blackened energy as a very special guest, alongside death=0D=0Ametal veterans Vomitory and the Norwegian powerhouse Vreid.=0D=0A=0D=0ASpeaking about the upcoming tour, Peter Tägtgren comments:=0D=0A=0D=0A“We can’t wait to hit the road again and bring chaos all over=0D=0AEurope! It’s been way too long, and sharing the stage with Abbath,=0D=0AVomitory and Vreid makes this tour even more special. Get ready for a=0D=0Afull-on metal assault — it’s going to be loud, it’s going to be=0D=0Aintense, and it’s going to be pure Hypocrisy!”=0D=0A=0D=0AFans can expect an unrelenting night of extreme metal mastery — a=0D=0Acelebration of raw energy, dark atmosphere, and decades of=0D=0Auncompromising sound.=0D=0A
URL;VALUE=URI:https://hamburgwhl.infomaxnet.de/standard_widget_de/e-hypocrisy-mass-hallucination-tour-2026?eventDateId=30180614&widgetToken=22vcqFKw4GE.&
CLASS:PUBLIC
DTSTART:20260421T183000
DTSTAMP:20260421T143835
END:VEVENT
END:VCALENDAR