BEGIN:VCALENDAR
VERSION:2.0
PRODID:http://www.infomax-online.de/imxeventmanager/
METHOD:PUBLISH
BEGIN:VTIMEZONE
TZID:Europe/Berlin
TZURL:http://tzurl.org/zoneinfo-outlook/Europe/Berlin
X-LIC-LOCATION:Europe/Berlin
END:VTIMEZONE
BEGIN:VEVENT
UID:69e645c9d206f
LOCATION:Puschkinstraße 12, 19055 Schwerin
SUMMARY;ENCODING=QUOTED-PRINTABLE:Filme! Farben! Formen!
DESCRIPTION;ENCODING=QUOTED-PRINTABLE:Bilder von Armin Mueller-Stahl im Kulturforum Schleswig-Holstein-Haus=0D=0ASchwerin=0D=0A=0D=0A =0D=0A=0D=0AFILME! FARBEN! FORMEN!=0D=0ABILDER VON ARMIN MUELLER-STAHL IM KULTURFORUM SCHLESWIG-HOLSTEIN-HAUS=0D=0A=0D=0ADie Präsentation der Malereien auf Leinwand und Papier des=0D=0Avielseitigen Künstlers Armin Mueller-Stahl ist ein gemeinsames=0D=0AProjekt von Filmland Mecklenburg-Vorpommern und dem Kulturforum=0D=0ASchleswig-Holstein-Haus Schwerin und flankiert das Filmkunstfest, das=0D=0AAnfang Mai zum 35. Mal stattfindet. Im Rahmen des Festivals wird Armin=0D=0AMueller-Stahl mit dem Ehrenpreis „Goldener Ochse“ für sein=0D=0Alangjähriges und vielseitiges künstlerisches Wirken ausgezeichnet.=0D=0A=0D=0ADie Schau nimmt diesen Anlass auf und richtet den Blick auf sein=0D=0Abildkünstlerisches Schaffen, das parallel zu seiner internationalen=0D=0AFilm- und Theaterkarriere entstanden ist. Denn: „Das Malen,=0D=0ASchreiben, Musizieren und die Schauspielerei gehören für mich=0D=0Aeinfach zusammen“, bekannte Mueller-Stahl schon vor Jahren. Ohne=0D=0AZweifel gehört er zu den bedeutendsten künstlerischen=0D=0AAusnahmeerscheinungen der jüngeren deutschen Kulturgeschichte.=0D=0A=0D=0AArmin Mueller-Stahl, 1930 in Tilsit (Ostpreußen) geboren, zählt zu=0D=0Aden bedeutendsten deutschsprachigen Schauspielern des 20.=0D=0AJahrhunderts. Nach einem Studium der Musik wandte er sich in den=0D=0A1950er Jahren der Schauspielerei zu und wurde zu einer prägenden=0D=0AFigur des Theaters und Films in der DDR.=0D=0A=0D=0ABekannt wurde er unter anderem durch die Verfilmung von „Jakob der=0D=0ALügner“ (Regie: Frank Beyer), die als einziger in der DDR=0D=0Aproduzierter Film für den Oscar nominiert wurde. Nach seiner Ausreise=0D=0Aaus der DDR im Jahr 1980 setzte Mueller-Stahl seine Karriere in der=0D=0ABundesrepublik und international fort. Er arbeitete unter anderem mit=0D=0ARainer Werner Fassbinder, István Szabó und Costa-Gavras. 1997 wurde=0D=0Aer für den Oscar nominiert.=0D=0A=0D=0A =0D=0A
URL;VALUE=URI:https://hamburgwhl.infomaxnet.de/standard_widget_de/e-filme-farben-formen?eventDateId=30179626&widgetToken=22vcqFKw4GE.&
CLASS:PUBLIC
DTSTART:20260423T110000
DTSTAMP:20260420T172705
END:VEVENT
END:VCALENDAR