BEGIN:VCALENDAR
VERSION:2.0
PRODID:http://www.infomax-online.de/imxeventmanager/
METHOD:PUBLISH
BEGIN:VTIMEZONE
TZID:Europe/Berlin
TZURL:http://tzurl.org/zoneinfo-outlook/Europe/Berlin
X-LIC-LOCATION:Europe/Berlin
END:VTIMEZONE
BEGIN:VEVENT
UID:69e841125ced5
LOCATION:Öjendorfer Weg 30a, 22119 Hamburg
SUMMARY;ENCODING=QUOTED-PRINTABLE:Elbwichtel - ALLE VÖGLEIN SIND SCHON DA
DESCRIPTION;ENCODING=QUOTED-PRINTABLE:Im Frühlingskonzert „Alle Vöglein sind schon da“ zwitschert die=0D=0ABlockflöte wie ein Vogel, rauscht das Akkordeon wie der Wind und das=0D=0ACello brummt wie ein dicker Maikäfer. Gemeinsam mit der Bratsche=0D=0Alassen die Instrumente die Klänge der Natur lebendig werden – von=0D=0AVogelstimmen bis Frühlingsregen.=0D=0A=0D=0ANicola Termöhlen, Blockflöte I Nenad Nikolic, Akkordeon I Andrea=0D=0AHummel, Viola I Iris Matthes, Violoncello=0D=0A=0D=0ADie Elbwichtel-Konzerte sind eine Klassikkonzertreihe der Hamburger=0D=0ACamerata für Kinder, die auf ihrer Tour durch Hamburg auch im Kultur=0D=0APalast Billstedt Halt macht.=0D=0ADer Bereich Musikvermittlung ist eine ganz besondere Stärke der=0D=0AHamburger Camerata. Das Orchester bietet mit den beliebten=0D=0AElbwichtelkonzerten ein breites Angebot für Vorschulkinder bis zum=0D=0AJugendlichen an.=0D=0A=0D=0AFür Kinder ab 3 Jahren.=0D=0A
URL;VALUE=URI:https://hamburgwhl.infomaxnet.de/standard_widget_de/e-elbwichtel-alle-voeglein-sind-schon-da-2?eventDateId=30179284&widgetToken=22vcqFKw4GE.&
CLASS:PUBLIC
DTSTART:20260422T093000
DTSTAMP:20260422T053130
END:VEVENT
END:VCALENDAR