BEGIN:VCALENDAR
VERSION:2.0
PRODID:http://www.infomax-online.de/imxeventmanager/
METHOD:PUBLISH
BEGIN:VTIMEZONE
TZID:Europe/Berlin
TZURL:http://tzurl.org/zoneinfo-outlook/Europe/Berlin
X-LIC-LOCATION:Europe/Berlin
END:VTIMEZONE
BEGIN:VEVENT
UID:69ed43f855bf8
LOCATION:Martinistraße 44a, 20251 Hamburg
SUMMARY;ENCODING=QUOTED-PRINTABLE:König Drosselbart - Kinder spielen Theater für Kinder
DESCRIPTION;ENCODING=QUOTED-PRINTABLE:_Kinder spielen Theater für Kinder? Ja genau! Unser Fortgeschrittenen=0D=0ATheaterkurs spielt nun auch in unserem festen Theaterprogramm und das=0D=0ASchönste ist: Ihr dürft live dabei sein und einen Einblick bekommen!=0D=0ALasst euch verzaubern!_=0D=0A=0D=0AZum Stück: Der schönen Prinzessin ist zur Heirat kein König gut=0D=0Agenug. Jeder Anwärter wird mit spitzen Bemerkungen und hochmütigem=0D=0ASpott von der Prinzessin abgewiesen. Doch eines Tages trifft sie auf=0D=0Aeinen, der sich das nicht gefallen lässt: König Drosselbart.=0D=0AAls Bettler verkleidet tritt er an den Hof ihres zu allem=0D=0Aentschlossenen Vaters und gewinnt die Hand der Prinzessin. Statt Prunk=0D=0Aund Palast erwarten die Prinzessin nun eine ärmliche Hütte, harte=0D=0AArbeit und viele Prüfungen. Als sie schließlich unerkannt am Hofe=0D=0Ades König Drosselbart Arbeit findet, führt dieser sie auf einen Weg,=0D=0Aauf dem sie die echte Liebe entdecken kann.=0D=0A
URL;VALUE=URI:https://hamburgwhl.infomaxnet.de/standard_widget_de/e-koenig-drosselbart-kinder-spielen-theater-fuer-kinder?eventDateId=30179243&widgetToken=22vcqFKw4GE.&
CLASS:PUBLIC
DTSTART:20260426T150000
DTSTAMP:20260426T004512
END:VEVENT
END:VCALENDAR