BEGIN:VCALENDAR
VERSION:2.0
PRODID:http://www.infomax-online.de/imxeventmanager/
METHOD:PUBLISH
BEGIN:VTIMEZONE
TZID:Europe/Berlin
TZURL:http://tzurl.org/zoneinfo-outlook/Europe/Berlin
X-LIC-LOCATION:Europe/Berlin
END:VTIMEZONE
BEGIN:VEVENT
UID:69ea5f03e234a
LOCATION:Am Hohen Kopf 3, 21776 Wanna
SUMMARY;ENCODING=QUOTED-PRINTABLE:Ausgebucht - Vogelkundliche Moorbahnfahrt
DESCRIPTION;ENCODING=QUOTED-PRINTABLE:Mit der Moorbahn ins Vogelparadies: Die wiedervernässten Moorflächen=0D=0Ades Ahlenmoores haben sich zu einem kleinen Vogelparadies entwickelt=0D=0A– ein Erfolg des Naturschutzes!=0D=0A=0D=0ADie Moorbahn fährt in diesen spannenden Lebensraum – unter=0D=0Afachkundiger Führung werden interessante und teilweise seltene=0D=0AVogelarten beobachtet. So brütet etwa der elegante Kranich, vor 15=0D=0AJahren in der Region noch ausgestorben, inzwischen wieder im=0D=0AAhlenmoor. Mit etwas Glück bekommst du auch Rotschenkel, Braun- und=0D=0ASchwarzkehlchen, Wiesenpieper, Baumfalke und Seeadler zu sehen.=0D=0A=0D=0ASoweit vorhanden, bring bitte ein eigenes Fernglas mit. Einige=0D=0AFerngläser stehen aber auch zum Ausleihen zur Verfügung.=0D=0A=0D=0AFür Gäste mit Rollstuhl haben wir selbstverständlich auch Plätze.=0D=0ADu musst dich in diesem Fall vorab bei uns per Mail=0D=0A(mooriz@ahlenmoor.de) oder Telefon 04757-8189558 anmelden, da wir=0D=0Adiese speziell vorbereiten müssen. Ein Onlineticketing ist in diesem=0D=0AFall leider nicht möglich!=0D=0A=0D=0AEs dürfen auf der Moorbahn keine Hunde mitgeführt werden!=0D=0ABei extremen Wetterlagen kann es zu Ausfällen kommen.=0D=0A=0D=0A17 € pro Person=0D=0A
URL;VALUE=URI:https://hamburgwhl.infomaxnet.de/standard_widget_de/e-vogelkundliche-moorbahnfahrt-1?eventDateId=30178548&widgetToken=22vcqFKw4GE.&
CLASS:PUBLIC
DTSTART:20260426T080000
DTSTAMP:20260423T200347
END:VEVENT
END:VCALENDAR