BEGIN:VCALENDAR
VERSION:2.0
PRODID:http://www.infomax-online.de/imxeventmanager/
METHOD:PUBLISH
BEGIN:VTIMEZONE
TZID:Europe/Berlin
TZURL:http://tzurl.org/zoneinfo-outlook/Europe/Berlin
X-LIC-LOCATION:Europe/Berlin
END:VTIMEZONE
BEGIN:VEVENT
UID:69e55be85d653
LOCATION:Hansestraße , 21682 Stade
SUMMARY;ENCODING=QUOTED-PRINTABLE:Craft Beer & Gourmet Festival
DESCRIPTION;ENCODING=QUOTED-PRINTABLE:Für besondere Genussmomente=0D=0A=0D=0AGemütliches Miteinander unter freiem Himmel, maritimes Flair am=0D=0AStadthafen und ein vielfältiges kulinarisches Angebot dürfen Gäste=0D=0Ades Stader Craft Beer & Gourmet Festivals erwarten – die Hansestadt=0D=0Asteht im Zeichen der Braukunst. Sie lockt Besucher zum Gaumenschmaus=0D=0Aan den Stader Stadthafen und lässt Genießer-Herzen höherschlagen.=0D=0AErstmalig im Jahr 2018 in Stade zu Gast, hat das Craft Beer & Gourmet=0D=0AFestival inzwischen viele Liebhaber und „Wiederholungstäter“ für=0D=0Asich gewinnen können. Eine Vielzahl von Anbietern des sogenannten=0D=0ACraft Beer ist vertreten und präsentiert kreative Biersorten. Neben=0D=0Aden Craft-Beer-Angeboten werden auch Weine, Cocktails und=0D=0AErfrischungsgetränke ausgeschenkt. Erlesene Speisenkombinationen,=0D=0Aregionale Spezialitäten, interessante Neuerfindungen und köstliche=0D=0AKleinigkeiten vervollständigen das Angebot auf dem Craft Beer &=0D=0AGourmet Festival.=0D=0ADie Veranstaltung findet in Kooperation mit Lampenfieber Weinmarketing=0D=0Aund unterstützt durch die Stadtwerke Stade statt.=0D=0A
URL;VALUE=URI:https://hamburgwhl.infomaxnet.de/standard_widget_de/e-craft-beer-gourmet-festival?eventDateId=30178536&widgetToken=22vcqFKw4GE.&
CLASS:PUBLIC
DTSTART:20260426T130000
DTSTAMP:20260420T004912
END:VEVENT
END:VCALENDAR