BEGIN:VCALENDAR
VERSION:2.0
PRODID:http://www.infomax-online.de/imxeventmanager/
METHOD:PUBLISH
BEGIN:VTIMEZONE
TZID:Europe/Berlin
TZURL:http://tzurl.org/zoneinfo-outlook/Europe/Berlin
X-LIC-LOCATION:Europe/Berlin
END:VTIMEZONE
BEGIN:VEVENT
UID:69ea4b8475840
LOCATION:Am Hohen Kopf 3, 21776 Wanna
SUMMARY;ENCODING=QUOTED-PRINTABLE:Moorbahn Familien- / Kinderfahrt
DESCRIPTION;ENCODING=QUOTED-PRINTABLE:Auf der 135minütigen Tour lernst du das Ahlenmoor kennen.=0D=0ADiese Fahrt ist besonders für Familien mit Kindern,=0D=0AFerienpassaktionen, Besucher mit Handicap usw. geeignet.=0D=0A=0D=0ADie Moorbahnfahrerinnen bzw. die Moorbahnfahrer gehen gezielt auf die=0D=0AKinder ein. Es werden alle Sinne genutzt: Riechen, Fühlen, Schmecken,=0D=0ASehen und Hören. Mit Spaß und Ruhe kann man hier das Moor kennen=0D=0Alernen.=0D=0A=0D=0AAn vier Haltepunkten mit thematisch unterschiedlichen Schwerpunkten=0D=0Aerfährst du auf unterhaltsame Art und Weise Spannendes und=0D=0AWissenswertes, Historisches und Aktuelles über das Moor.=0D=0A=0D=0AAnmeldung für Gruppen ab 12 Personen unter Tel. 04778 81200.=0D=0A=0D=0AFür Gäste mit Rollstuhlhaben wir selbstverständlich auch Plätze.=0D=0ADu musst dich in diesem Fall vorab bei uns per Mail=0D=0A(mooriz@ahlenmoor.de) oder Telefon 04757-8189558 anmelden, da wir=0D=0Adiese speziell vorbereiten müssen. Ein Onlineticketing ist in diesem=0D=0AFall leider nicht möglich!=0D=0A=0D=0AEs dürfen auf der Moorbahn keine Hunde mitgeführt werden!=0D=0ABei extremen Wetterlagen kann es zu Ausfällen kommen.=0D=0A
URL;VALUE=URI:https://hamburgwhl.infomaxnet.de/standard_widget_de/e-moorbahn-familien-kinderfahrt?eventDateId=30178421&widgetToken=22vcqFKw4GE.&
CLASS:PUBLIC
DTSTART:20260426T140000
DTSTAMP:20260423T184036
END:VEVENT
END:VCALENDAR