BEGIN:VCALENDAR
VERSION:2.0
PRODID:http://www.infomax-online.de/imxeventmanager/
METHOD:PUBLISH
BEGIN:VTIMEZONE
TZID:Europe/Berlin
TZURL:http://tzurl.org/zoneinfo-outlook/Europe/Berlin
X-LIC-LOCATION:Europe/Berlin
END:VTIMEZONE
BEGIN:VEVENT
UID:69ea49ac2c227
LOCATION:Am Hohen Kopf 3, 21776 Wanna
SUMMARY;ENCODING=QUOTED-PRINTABLE:Moorbahnfahrt
DESCRIPTION;ENCODING=QUOTED-PRINTABLE:Erlebe das größte Hochmoor im Landkreis Cuxhaven auf eine neue Art=0D=0Aund Weise. Früher brachte die Feldbahn den Torf aus dem Moor zum=0D=0ATorfwerk. Heute kannst du mit der umgebauten Moorbahn eine=0D=0Aerlebnisreiche Fahrt in das Naturschutzgebiet unternehmen. An vier=0D=0AHaltepunkten mit thematisch unterschiedlichen Schwerpunkten erfährst=0D=0Adu auf unterhaltsame Art und Weise Spannendes und Wissenswertes,=0D=0AHistorisches und Aktuelles über das Moor.=0D=0A=0D=0AAnmeldung für Gruppen ab 12 Personen unter Tel. 04778 81200.=0D=0A=0D=0AFür Gäste mit Rollstuhl haben wir selbstverständlich auch Plätze.=0D=0ADu musst dich in diesem Fall vorab bei uns per Mail=0D=0A(mooriz@ahlenmoor.de) oder Telefon 04757-8189558 anmelden, da wir=0D=0Adiese speziell vorbereiten müssen. Ein Onlineticketing ist in diesem=0D=0AFall leider nicht möglich!=0D=0A=0D=0AEs dürfen auf der Moorbahn keine Hunde mitgeführt werden!=0D=0ABei extremen Wetterlagen kann es zu Ausfällen kommen.=0D=0A
URL;VALUE=URI:https://hamburgwhl.infomaxnet.de/standard_widget_de/e-moorbahnfahrt?eventDateId=30178036&widgetToken=22vcqFKw4GE.&
CLASS:PUBLIC
DTSTART:20260425T140000
DTSTAMP:20260423T183244
END:VEVENT
END:VCALENDAR