BEGIN:VCALENDAR
VERSION:2.0
PRODID:http://www.infomax-online.de/imxeventmanager/
METHOD:PUBLISH
BEGIN:VTIMEZONE
TZID:Europe/Berlin
TZURL:http://tzurl.org/zoneinfo-outlook/Europe/Berlin
X-LIC-LOCATION:Europe/Berlin
END:VTIMEZONE
BEGIN:VEVENT
UID:69eaf949410aa
LOCATION:Kokerstraße 1-3, 23569 Lübeck
SUMMARY;ENCODING=QUOTED-PRINTABLE:Schauschmieden
DESCRIPTION;ENCODING=QUOTED-PRINTABLE:Es wird wieder geschmiedet!=0D=0A=0D=0AFelix Irmscher präsentiert in der Schmiede (Eingang über den Hof)=0D=0Aein altes Handwerk - und Sie können mit der ganzen Familie zusehen.=0D=0AWer Lust hat kann auch einmal selber den Hammer schwingen. Für das=0D=0ASchauschmieden ist nur der Eintrittspreis für das Museum fällig.=0D=0A
URL;VALUE=URI:https://hamburgwhl.infomaxnet.de/standard_widget_de/e-schauschmieden-15?eventDateId=30173050&widgetToken=22vcqFKw4GE.&
CLASS:PUBLIC
DTSTART:20260426T120000
DTSTAMP:20260424T070201
END:VEVENT
END:VCALENDAR