BEGIN:VCALENDAR
VERSION:2.0
PRODID:http://www.infomax-online.de/imxeventmanager/
METHOD:PUBLISH
BEGIN:VTIMEZONE
TZID:Europe/Berlin
TZURL:http://tzurl.org/zoneinfo-outlook/Europe/Berlin
X-LIC-LOCATION:Europe/Berlin
END:VTIMEZONE
BEGIN:VEVENT
UID:69e6803d955b0
LOCATION:Am Seglerhafen 1, 23769 Fehmarn
SUMMARY;ENCODING=QUOTED-PRINTABLE:Insel Gepinsel Fehmarn LemkenHafen KreativWerk
DESCRIPTION;ENCODING=QUOTED-PRINTABLE:Fröhlicher Workshop rund um das Thema Sonneninsel Fehmarn, für=0D=0AAnfänger geeignet=0D=0A=0D=0AKomm vorbei zu unserem Workshop im Laden und tauche ein in das=0D=0Amalerische Inselgefühl Fehmarn ein. Insel Gepinsel steht rund um das=0D=0AThema Sonneninsel Fehmarn. Kreative Ideen zur Insel entdecken. Stell=0D=0Adir eine Brücke vor, die Insel, der Leuteturm, Möwen, das Meer, der=0D=0AStrand und die Sonne – nutze diese Motive als Anknüpfungspunkt und=0D=0Abringe deine eigenen Ideen auf Papier.=0D=0A=0D=0AMit bunten Farben, Stiften, Pinseln und Acrylfarben unterstützt dich=0D=0AGaby, die den Kurs leitet, dabei dein perfektes Bild zu kreieren. In=0D=0Aeiner entspannten Atmosphäre kannst du den Alltag abschalten, dich=0D=0Aganz auf deine Kreativität einlassen und dein fertiges Kunstwerk als=0D=0Awunderbare Erinnerung mit nach Hause nehmen.=0D=0A=0D=0AWas dich erwartet:=0D=0A- Inspiration durch Fehmarn-Motive: Brücke, Leuteturm, Möwen, Meer,=0D=0AStrand und Sonne=0D=0A- Praktische Tipps zu Farbwahl, Pinselführung und Acryltechnik=0D=0A- Persönliche Unterstützung von Gaby für eine individuelle=0D=0ABildkomposition=0D=0A- Eine entspannte Workshop-Atmosphäre, die Raum für Entspannung und=0D=0AKonzentration bietet=0D=0A- Ein fertiges Kunstwerk als bleibende Erinnerung an deinen kreativen=0D=0ATag=0D=0A=0D=0AWir freuen uns darauf, mit dir gemeinsam bunte Inselgefühle auf=0D=0APapier zu bringen.=0D=0A
URL;VALUE=URI:https://hamburgwhl.infomaxnet.de/standard_widget_de/e-insel-gepinsel-fehmarn-lemkenhafen-kreativwerk?eventDateId=30173011&widgetToken=22vcqFKw4GE.&
CLASS:PUBLIC
DTSTART:20260426T140000
DTSTAMP:20260420T213629
END:VEVENT
END:VCALENDAR