BEGIN:VCALENDAR
VERSION:2.0
PRODID:http://www.infomax-online.de/imxeventmanager/
METHOD:PUBLISH
BEGIN:VTIMEZONE
TZID:Europe/Berlin
TZURL:http://tzurl.org/zoneinfo-outlook/Europe/Berlin
X-LIC-LOCATION:Europe/Berlin
END:VTIMEZONE
BEGIN:VEVENT
UID:69e8fcbfb60a2
LOCATION:Grüner Weg 26, 23936 Grevesmühlen
SUMMARY;ENCODING=QUOTED-PRINTABLE:Tag der erneuerbaren Energien am 24. April 2026
DESCRIPTION;ENCODING=QUOTED-PRINTABLE:Am 24. April 2026 lädt der Verein Stadt ohne Watt zum 14. Tag der=0D=0Aerneuerbaren Energien ein.=0D=0A=0D=0AAm 24. April 2026 lädt der Verein Stadt ohne Watt zum 14. Tag der=0D=0Aerneuerbaren Energien ein. Über 400 Teilnehmende aus der Region=0D=0Aerhalten an zahlreichen Lernorten praxisnahe Einblicke in erneuerbare=0D=0AEnergien und nachhaltige Daseinsvorsorge.=0D=0A=0D=0ANeben bewährten Partnern konnten vier neue Lernorte gewonnen werden.=0D=0AFachleute erklären Technik, beantworten Fragen und fördern den=0D=0ADialog rund um Energiewende und Nachhaltigkeit.=0D=0A
URL;VALUE=URI:https://hamburgwhl.infomaxnet.de/standard_widget_de/e-tag-der-erneuerbaren-energien-am-24-april-2026?eventDateId=30172940&widgetToken=22vcqFKw4GE.&
CLASS:PUBLIC
DTSTART:20260424T100000
DTSTAMP:20260422T185215
END:VEVENT
END:VCALENDAR