BEGIN:VCALENDAR
VERSION:2.0
PRODID:http://www.infomax-online.de/imxeventmanager/
METHOD:PUBLISH
BEGIN:VTIMEZONE
TZID:Europe/Berlin
TZURL:http://tzurl.org/zoneinfo-outlook/Europe/Berlin
X-LIC-LOCATION:Europe/Berlin
END:VTIMEZONE
BEGIN:VEVENT
UID:69e5ed32b942d
LOCATION:Wiesendamm 28, 22305 Hamburg
SUMMARY;ENCODING=QUOTED-PRINTABLE:FLEX - Das Hamburger Schultheaterfestival 2026
DESCRIPTION;ENCODING=QUOTED-PRINTABLE:Hamburger Schultheater-Festival.=0D=0A=0D=0AVom 20/4 bis 24/4 wird die Große Bühne im Jungen SchauSpielHaus=0D=0Awieder für Schüler*innen freigegeben und wir freuen uns auf=0D=0Agemeinsames Spielen, Reflektieren und Begegnen. In dieser=0D=0AFestivalrunde werden fünf Auftritte der „FLEX & Co.“-Produktionen=0D=0Agezeigt, in denen ausgewählte Schulgruppen mit Künstler*innen=0D=0Akooperieren, sich von Profibühnen inspirieren lassen und so=0D=0Aeigenständige theatrale Formen finden.=0D=0A=0D=0AFolgende Schulen sind dabei: Stadtteilschule Bergstedt, Gymnasium=0D=0ABlankenese, Fritz-Schumacher-Schule, Heinrich-Heine-Gymnasium und die=0D=0AIda Ehre Schule. Im Format „FLEX für alle“ geben weitere=0D=0AHamburger Schultheatergruppen Einblicke in ihre aktuellen Projekte.=0D=0ADer Festivalspielplan ist ab Ende März online auf: www.flex.hamburg=0D=0A=0D=0AOn top: Workshops und Fachforen für Lehrer*innen und Schüler*innen.=0D=0AVorverkauf ab 30/3 über das Junge SchauSpielHaus.=0D=0A
URL;VALUE=URI:https://hamburgwhl.infomaxnet.de/standard_widget_de/e-flex-das-hamburger-schultheaterfestival-2026?eventDateId=30172901&widgetToken=22vcqFKw4GE.&
CLASS:PUBLIC
DTSTART:20260420T120000
DTSTAMP:20260420T110906
END:VEVENT
END:VCALENDAR