BEGIN:VCALENDAR
VERSION:2.0
PRODID:http://www.infomax-online.de/imxeventmanager/
METHOD:PUBLISH
BEGIN:VTIMEZONE
TZID:Europe/Berlin
TZURL:http://tzurl.org/zoneinfo-outlook/Europe/Berlin
X-LIC-LOCATION:Europe/Berlin
END:VTIMEZONE
BEGIN:VEVENT
UID:69eaf96532daa
LOCATION:Jarrestraße 20, 22303 Hamburg
SUMMARY;ENCODING=QUOTED-PRINTABLE:FES: Filme und Fragen. „Do You Love Me” (Der politische Film 2025)
DESCRIPTION;ENCODING=QUOTED-PRINTABLE:Wir laden herzlich ein zur Preview vor dem deutschen Kinostart des=0D=0Alibanesischen Films „Do You Love Me“ (mit dt. UT) und=0D=0Aanschließendem Gespräch mit der online zugeschalteten Regisseurin=0D=0ALana Daher, Preisträgerin des Preises "Der politische Film" der=0D=0AFriedrich-Ebert-Stiftung 2025.=0D=0A=0D=0AAls mal laute, mal leise Collage aus Archivmaterial ist „Do You Love=0D=0AMe“ ein ganz besonderes Werk. Es ist ein essayistischer=0D=0ADokumentarfilm aus über 20.000 Quellen, der ein melancholisches=0D=0APanorama über die Erinnerungen einer Generation zeigt, die während=0D=0Aund nach dem libanesischen Bürgerkrieg erwachsen wurde. Der Film ist=0D=0Aeine Reise durch das audiovisuelle Gedächtnis des Libanon – ein=0D=0ALiebesbrief an Beirut, erzählt mit 70 Jahren Film, Fernsehen,=0D=0AHeimvideos und Fotografie, hinterlegt mit Musik und archivischen=0D=0AAudioaufnahmen. Dabei rekonstruiert der Film eine fragmentierte=0D=0AGeschichte, geprägt von Nostalgie, Widerstand und der ewigen Frage=0D=0Anach Heimat und Zugehörigkeit. Es geht um Beirut aber gleichzeitig um=0D=0Aeine Sehnsucht nach Heimat und Frieden, die Menschen vielerorts=0D=0Aspüren. Damit bespielt der Film ein universelles wie hochaktuelles=0D=0AThema.=0D=0A=0D=0ALana Daher  lebt als Filmemacherin im Libanon. Sie ist seit langem=0D=0Ain der Kunst- und Musikszene von Beirut aktiv und arbeitet in den=0D=0ABereichen Ton, Bild und Archivierung.=0D=0A=0D=0AIm Anschluss an den Film diskutieren wir gemeinsam all die Fragen, die=0D=0Adieser bei uns aufgeworfen hat, mit der online zugeschalteten=0D=0ARegisseurin. Den Film zeigen wir mit deutschen Untertiteln. Das=0D=0AGespräch wird auf Englisch stattfinden.=0D=0A=0D=0AModeration: Stine Klapper (FES Nord)=0D=0A=0D=0ADie Veranstaltung ist Teil unserer Reihe „FES: Filme und Fragen“.=0D=0AEinmal im Quartal zeigen wir im Alabama Kino einen politisch=0D=0Arelevanten Film, den wir mit Expert*innen und dem Publikum im=0D=0AAnschluss diskutieren. Abonnieren Sie gern unseren Newsletter oder=0D=0Afolgen Sie uns auf Instagram, um keinen Termin zu verpassen.=0D=0A=0D=0AOrganisatorische Hinweise:=0D=0A=0D=0A- Die Teilnahme ist kostenfrei.=0D=0A=0D=0A- Eine Anmeldung über den "Anmelden"-Button auf unserer Webseite ist=0D=0Aerforderlich: https://www.fes.de/lnk/fes-filme-und-fragen=0D=0A=0D=0ABei erfolgreicher Anmeldung senden wir eine Anmeldebestätigung.=0D=0A=0D=0A- Der Veranstaltungsort ist barrierefrei.=0D=0A=0D=0AGefördert durch die Landeszentrale für politische Bildung der Freien=0D=0Aund Hansestadt Hamburg.=0D=0A
URL;VALUE=URI:https://hamburgwhl.infomaxnet.de/standard_widget_de/e-fes-filme-und-fragen-do-you-love-me-der-politische-film-2025?eventDateId=30172756&widgetToken=22vcqFKw4GE.&
CLASS:PUBLIC
DTSTART:20260427T173000
DTSTAMP:20260424T070229
END:VEVENT
END:VCALENDAR