BEGIN:VCALENDAR
VERSION:2.0
PRODID:http://www.infomax-online.de/imxeventmanager/
METHOD:PUBLISH
BEGIN:VTIMEZONE
TZID:Europe/Berlin
TZURL:http://tzurl.org/zoneinfo-outlook/Europe/Berlin
X-LIC-LOCATION:Europe/Berlin
END:VTIMEZONE
BEGIN:VEVENT
UID:69e6458bc467f
LOCATION:Spielbudenplatz 24-25, 20359 Hamburg
SUMMARY;ENCODING=QUOTED-PRINTABLE:Die Königs schenken nach!
DESCRIPTION;ENCODING=QUOTED-PRINTABLE:EIN MUSICAL VON MARTIN LINGNAU, HEIKO WOHLGEMUTH UND MARK NEEDHAM=0D=0A=0D=0AGoldene Zeiten bei Familie König: Seit Oma bei der GlücksSpirale die=0D=0Alebenslange Sofortrente gewonnen hat, ist im heimischen Souterrain der=0D=0AWohlstand ausgebrochen. Wie seine vier Kinder ist auch Vater König,=0D=0Avon allen nur Käpt’n genannt, voll im Kaufrausch und investiert=0D=0Aerstmal in die heimische Wirtschaft. Also, wortwörtlich. Volle Kasse,=0D=0Avoller Kühlschrank und blau bis aufs Blut – kann das lange gutgehen=0D=0Abei unserer Lieblingssippe auf St. Pauli? Auf keinen Fall! Schnell=0D=0Azieht wieder das pralle Chaos ein und der Käpt’n und seine=0D=0ASprösslinge wünschen sich sehnlichst die Sorgen von gestern zurück.=0D=0ADenn wo’s bisher nur ums schnöde Geld ging, geht’s jetzt ums=0D=0Anackte Überleben …=0D=0A=0D=0ANach dem Erfolg von „Die Königs vom Kiez – Mit Herz und=0D=0APromille“ schicken Martin Lingnau und Heiko Wohlgemuth, Deutschlands=0D=0Aerfolgreichste Musicalautoren, den daueralkoholisierten Käpt’n und=0D=0Aseine Familienbande samt liebestoller Nachbarin Berta jetzt in ein=0D=0Aneues schräges Abenteuer.=0D=0A=0D=0A„Die Königs schenken nach!“ ist die nahtlose Fortsetzung der=0D=0Awahrscheinlich warmherzigsten Liebeserklärung an St. Pauli: mit=0D=0Aliebgewonnen Kieztypen, gnadenlosem Humor und 15 brandneuen Songs.=0D=0AFunktioniert auch ohne Vorwissen aus „Die Königs vom Kiez“. Die=0D=0Asollte man sich natürlich trotzdem nicht entgehen lassen.=0D=0A
URL;VALUE=URI:https://hamburgwhl.infomaxnet.de/standard_widget_de/e-die-koenigs-schenken-nach-4-1-1-1-1-1-1-1?eventDateId=30172598&widgetToken=22vcqFKw4GE.&
CLASS:PUBLIC
DTSTART:20260425T193000
DTSTAMP:20260420T172603
END:VEVENT
END:VCALENDAR