BEGIN:VCALENDAR
VERSION:2.0
PRODID:http://www.infomax-online.de/imxeventmanager/
METHOD:PUBLISH
BEGIN:VTIMEZONE
TZID:Europe/Berlin
TZURL:http://tzurl.org/zoneinfo-outlook/Europe/Berlin
X-LIC-LOCATION:Europe/Berlin
END:VTIMEZONE
BEGIN:VEVENT
UID:69e6814668abb
LOCATION:Deichtorstraße 1-2, 20095 Hamburg
SUMMARY;ENCODING=QUOTED-PRINTABLE:Eröffnung: Against all Odds - Allen Widrigkeiten zum Trotz
DESCRIPTION;ENCODING=QUOTED-PRINTABLE:Eröffnung: Against all Odds - Allen Widrigkeiten zum Trotz=0D=0A
URL;VALUE=URI:https://hamburgwhl.infomaxnet.de/standard_widget_de/e-eroeffnung-against-all-odds-allen-widrigkeiten-zum-trotz?eventDateId=30171062&widgetToken=22vcqFKw4GE.&
CLASS:PUBLIC
DTSTART:20260423T160000
DTSTAMP:20260420T214054
END:VEVENT
END:VCALENDAR