BEGIN:VCALENDAR
VERSION:2.0
PRODID:http://www.infomax-online.de/imxeventmanager/
METHOD:PUBLISH
BEGIN:VTIMEZONE
TZID:Europe/Berlin
TZURL:http://tzurl.org/zoneinfo-outlook/Europe/Berlin
X-LIC-LOCATION:Europe/Berlin
END:VTIMEZONE
BEGIN:VEVENT
UID:69e9e881e6734
LOCATION:Willy-Brandt-Allee 10, 23554 Lübeck
SUMMARY;ENCODING=QUOTED-PRINTABLE:IHK Schleswig-Holstein | Nachhaltigkeitskonferenz
DESCRIPTION;ENCODING=QUOTED-PRINTABLE:NACHHALTIGKEITSKONFERENZ DER IHK SCHLESWIG-HOLSTEIN=0D=0A=0D=0AOb als Mitarbeitende, Kundinnen und Kunden, Investorinnen und=0D=0AInvestoren oder Geschäftspartner: Nachhaltigkeit ist keine reine=0D=0AManagemententscheidung oder bloße Regulatorik, sondern wird von allen=0D=0ABeteiligten aktiv gelebt. Die IHK Nachhaltigkeitskonferenz bringt=0D=0AMenschen zusammen, die den Wandel gestalten wollen. Am 24. April 2026=0D=0Alädt die IHK Unternehmen aus Schleswig-Holstein ein, zentrale Fragen=0D=0Ades Kulturwandels zu diskutieren: Wie gelingt nachhaltige=0D=0ATransformation im betrieblichen Alltag? Was brauchen Mitarbeitende, um=0D=0AVeränderungen voranzutreiben? Und welche Praxisbeispiele zeigen=0D=0Amutiges Handeln? Hier geht es zur Anmeldung.=0D=0A[https://www.ihk.de/schleswig-holstein/system/veranstaltungssuche/vstdetail-antrago/5288442/12863?terminId=12863]=0D=0A=0D=0APROGRAMM:=0D=0A9.00 Uhr Ankommen und Begrüßungskaffee=0D=0A9.30 Uhr Begrüßung und Einführung (Thomas Buhck, Kathrin Ostertag)=0D=0AImpulsvorträge zu nachhaltiger Unternehmenskultur, Resilienz und=0D=0AWirtschaftlichkeit=0D=0APitchrunde mit Praxisbeispielen=0D=0A13.00 Uhr Mittagsimbiss=0D=0AVorträge zu Green Teams und Unternehmenskultur=0D=0ADiskussionspanel mit Wirtschaft, Wissenschaft und Politik=0D=0A16.00 Uhr Networking & Check In zur GO.GRØØN - und LN=0D=0AePower-Eröffnung=0D=0A=0D=0AMehr Informationen zur GO.GRØØN - Messe für Nachhaltiges & Faires=0D=0Aauf www.gogroon.de [https://www.gogroon.de/].=0D=0A
URL;VALUE=URI:https://hamburgwhl.infomaxnet.de/standard_widget_de/e-ihk-schleswig-holstein-nachhaltigkeitskonferenz?eventDateId=30169738&widgetToken=22vcqFKw4GE.&
CLASS:PUBLIC
DTSTART:20260424T090000
DTSTAMP:20260423T113809
END:VEVENT
END:VCALENDAR