BEGIN:VCALENDAR
VERSION:2.0
PRODID:http://www.infomax-online.de/imxeventmanager/
METHOD:PUBLISH
BEGIN:VTIMEZONE
TZID:Europe/Berlin
TZURL:http://tzurl.org/zoneinfo-outlook/Europe/Berlin
X-LIC-LOCATION:Europe/Berlin
END:VTIMEZONE
BEGIN:VEVENT
UID:69ea186d20be3
LOCATION:Willy-Brandt-Allee 10, 23554 Lübeck
SUMMARY;ENCODING=QUOTED-PRINTABLE:Unser tägliches Wasser | Lunchkonzert im Rahmen der GO.GRØØN
DESCRIPTION;ENCODING=QUOTED-PRINTABLE:Lunchkonzert im Rahmen der GO.GRØØN=0D=0AUNSER TÄGLICHES WASSER=0D=0AMitwirkende: Helena Köhler, Vortrag (Stadtwerke Lübeck); Nathan Bas,=0D=0ADirigent; Orchester des Wandels, Musiker:innen des Philharmonischen=0D=0AOrchesters der Hansestadt Lübeck; Tänzer:innen TanzOrtNord=0D=0A=0D=0AProgramm, Auszüge aus=0D=0AEdward Elgar - Serenade für Streichorchester e-Moll op. 20=0D=0A                      - Elegie für Streichorchester op. 58=0D=0ABenjamin Britten - Simple Symphony op. 4=0D=0AAntonio Vivaldi - Concerto per archi RV 156=0D=0APhilip Glass - Streichquartett Nr.2=0D=0A=0D=0AIm Rahmen der GO.GRØØN – Messefür Nachhaltiges & Faires=0D=0Ainitiieren die Musiker:innen des „Orchester des Wandels Lübeck“,=0D=0Adie Lübecker Philharmoniker, erneut ein besonderes ca. 45-minütiges=0D=0AKonzert, das in diesem Jahr thematisch der Trinkwasserversorgung in=0D=0ALübeck gewidmet ist.=0D=0A=0D=0AEs soll die Relevanz des Wassers im Alltag der Stadt vermittelt=0D=0Awerden. Hierzu wird die Hydrogeologin Helena Köhler von den=0D=0AStadtwerken Lübeck das Publikum auf eine kleine Zeitreise durch die=0D=0AGeschichte des Wassers in Lübeck von den Eiszeiten bis zur heutigen=0D=0AWasserversorgung mitnehmen und einen Blick in die Zukunft werfen, wie=0D=0Asauberes Trinkwasser auch weiterhin gewährleistet werden kann. Mit=0D=0AMusik, die die Atmosphäre des Themas Wasser widerspiegelt und=0D=0AAssoziationen ermöglicht, möchten die Musiker:innen die Menschen auf=0D=0Aemotionaler Ebene erreichen. Vier Tänzer:innen der Tanzkompanie=0D=0ATanzOrtNord werden mit ihrer Ausdruckskraft bewegte Bilder erzeugen.=0D=0A=0D=0ADieses außergewöhnliche Konzertformat will für das Thema=0D=0Asensibilisieren und damit ein breites und auch junges Publikum=0D=0Aansprechen. Im Anschluss gibt es Gelegenheit zum persönlichen=0D=0AAustausch und Erwerb der Schokolade vom „Orchester des Wandels“ am=0D=0AInfostand im Foyer.=0D=0A=0D=0AGefördert durch die Possehl-Stiftung und der Philharmonischen=0D=0AGesellschaft Lübeck/Lübecker Philharmoniker e.V.=0D=0A=0D=0AVeranstalter: Orchester des Wandels=0D=0A=0D=0AEINTRITT FREI. Hier buchen Sie Ihre Freikarte.=0D=0A[https://tickets.muk.de/unser-taegliches-wasser-orchester-des-wandels-tickets-262.html?promotion=anmeldung]=0D=0A=0D=0AMehr Informationen zur GO.GRØØN - Messe für Nachhaltiges & Faires=0D=0Aauf www.gogroon.de [https://www.gogroon.de/].=0D=0A=0D=0AFoto: Olaf Malzahn=0D=0A
URL;VALUE=URI:https://hamburgwhl.infomaxnet.de/standard_widget_de/e-unser-taegliches-wasser-lunchkonzert-im-rahmen-der-gogr00n?eventDateId=30169737&widgetToken=22vcqFKw4GE.&
CLASS:PUBLIC
DTSTART:20260426T120000
DTSTAMP:20260423T150237
END:VEVENT
END:VCALENDAR