BEGIN:VCALENDAR
VERSION:2.0
PRODID:http://www.infomax-online.de/imxeventmanager/
METHOD:PUBLISH
BEGIN:VTIMEZONE
TZID:Europe/Berlin
TZURL:http://tzurl.org/zoneinfo-outlook/Europe/Berlin
X-LIC-LOCATION:Europe/Berlin
END:VTIMEZONE
BEGIN:VEVENT
UID:69ea15f8d374f
LOCATION:Willy-Brandt-Allee 10, 23554 Lübeck
SUMMARY;ENCODING=QUOTED-PRINTABLE:Sven Plöger - Zieht euch warm an, es wird noch heißer! | Vortrag im=0D=0ARahmen der GO.GRØØN
DESCRIPTION;ENCODING=QUOTED-PRINTABLE:Vortrag im Rahmen der GO.GRØØN=0D=0ASVEN PLÖGER - ZIEHT EUCH WARM AN, ES WIRD NOCH HEISSER!=0D=0A=0D=0AWir spüren, wie das Wettergeschehen immer extremer wird und dadurch=0D=0Amenschliches Leid und Kosten wachsen – ob durch Hitze, Trockenheit=0D=0Amit Dürren und Waldbränden oder auch durch Überflutungen. Auch das=0D=0Aimmer schnellere Abschmelzen des Eises der Arktis, der Rückzug vieler=0D=0AGletscher und rasch steigende Meerestemperaturen rücken immer mehr in=0D=0Aunseren Fokus. Wir erleben heute schlicht die Dinge, die uns die=0D=0AWissenschaft vor rund 40 Jahren angekündigt hat. Damit ist klar: Wir=0D=0Ahaben kein Wissens-, sondern ein Handlungsproblem! Was „da=0D=0Adraußen“ passiert, ist schlicht physikalische Realität und die=0D=0APhysik „interessiert“ sich in keiner Weise dafür, ob wir das=0D=0AThema wegen anderer Krisen aufschieben oder gar ignorieren. Physik=0D=0Afindet einfach statt, vollkommen emotionslos.  =0D=0A=0D=0AIm Vortrag von Sven Plöger geht es um eine klare Standortbestimmung,=0D=0Awo wir in Sachen Erderwärmung wirklich stehen - denn wir haben keine=0D=0AZeit mehr, uns die Welt wunschbasiert „schönzureden“ oder zu=0D=0Akonstatieren, es sei ja ohnehin alles zu spät. Beides hilft uns und=0D=0Avor allem den nachfolgenden Generationen in keiner Weise. Viel mehr=0D=0Abraucht es einen begründeten Optimismus, wie man mit der=0D=0AHerausforderung „Klimawandel“ umgehen kann. Der zweite=0D=0AVortragsteil befasst sich daher mit einem Blick auf Möglichkeiten,=0D=0Adie wir durchaus noch haben.=0D=0A=0D=0ASven Plöger ist kein Missionar oder Ideologe mit erhobenem=0D=0AZeigefinger, sondern er versucht, die komplexen=0D=0Anaturwissenschaftlichen Vorgänge in eine für jede und jeden=0D=0Averständliche Sprache zu übersetzen. Und trotz der Ernsthaftigkeit=0D=0Ades Themas verzichtet er in seinen Vorträgen nicht auf eine Prise=0D=0AHumor.=0D=0A=0D=0ADer Diplom-Meteorologe, Buchautor, Vortragsredner und Wettermoderator=0D=0ASven Plöger, geboren 1967 in Bonn, war schon als Kind fasziniert vom=0D=0AHimmel, den Wolken und der Fliegerei. Dies und seine Vorliebe für das=0D=0AFach Physik erweckten in ihm früh den Wunsch, Meteorologe zu werden.=0D=0ASeit mehr als 25 Jahren steht er vor der Kamera und moderiert diverse=0D=0AWettersendungen für die ARD, wie zum Beispiel das „Wetter vor=0D=0AAcht“ oder das Wetter in den Tagesthemen. Besondere Beachtung fanden=0D=0Aauch seine Dokumentationen, insbesondere die Reihen „Wo unser Wetter=0D=0Aentsteht“ und „Wie extrem wird unser Wetter, Sven Plöger?“, von=0D=0Ader aktuell weitere Folgen gedreht werden.=0D=0A=0D=0AVeranstalter: Musik- und Kongresshalle Lübeck=0D=0A=0D=0AEINTRITT FREI. Hier buchen Sie ihre Freikarte.=0D=0A[https://muk.online-ticket.de/sven-ploeger-tickets-226.html?promotion=anmeldung]=0D=0A=0D=0AMehr Informationen zur GO.GRØØN - Messe für Nachhaltiges & Faires=0D=0Aauf www.gogroon.de [https://www.gogroon.de].=0D=0A=0D=0ACopyright: Sebastian Knoth=0D=0A
URL;VALUE=URI:https://hamburgwhl.infomaxnet.de/standard_widget_de/e-sven-ploeger-zieht-euch-warm-an-es-wird-noch-heisser-vortrag-im-rahmen-der-gogr00n?eventDateId=30169736&widgetToken=22vcqFKw4GE.&
CLASS:PUBLIC
DTSTART:20260425T150000
DTSTAMP:20260423T145208
END:VEVENT
END:VCALENDAR