BEGIN:VCALENDAR
VERSION:2.0
PRODID:http://www.infomax-online.de/imxeventmanager/
METHOD:PUBLISH
BEGIN:VTIMEZONE
TZID:Europe/Berlin
TZURL:http://tzurl.org/zoneinfo-outlook/Europe/Berlin
X-LIC-LOCATION:Europe/Berlin
END:VTIMEZONE
BEGIN:VEVENT
UID:69ea2f62da457
LOCATION:Willy-Brandt-Allee 10, 23554 Lübeck
SUMMARY;ENCODING=QUOTED-PRINTABLE:vocatium | Fachmesse für Ausbildung+Studium
DESCRIPTION;ENCODING=QUOTED-PRINTABLE:VOCATIUM-MESSE LÜBECK=0D=0AFachmesse für Ausbildung+Studium=0D=0A=0D=0A„Deine Berufswahl. Was willst du? Was passt zu dir?“ Unter diesem=0D=0AMotto öffnen sich am 29. und 30. April 2026 die Tore der Musik- und=0D=0AKongresshalle zur Fachmesse für Ausbildung+Studium vocatium Lübeck.=0D=0A102 Aussteller:innen beraten 4.000 erwartete Jugendliche im=0D=0ABerufswahlalter von rd. 60 Schulen aus Lübeck und den angrenzenden=0D=0AKreisen. Die vocatium wird in Kooperation mit der IHK zu Lübeck vom=0D=0AIfT Institut für Talententwicklung veranstaltet. Dr. Dorit Stenke=0D=0AMinisterin für Allgemeine und Berufliche Bildung, Wissenschaft,=0D=0AForschung und Kultur des Landes Schleswig-Holstein ist regionaler=0D=0ASchirmherrin der Messe.=0D=0A=0D=0ADas Besondere der vocatium: Die Schüler:innen werden schon im=0D=0AUnterricht durch das IfT Team Lübeck auf den Besuch der Messe=0D=0Avorbereitet. Sie dürfen feste Beratungstermine mit Aussteller:innen=0D=0Aihrer Wahl reservieren. Darüber hinaus können sie viele weitere=0D=0Aspontane Gespräche mit den Vertreter:innen von 71=0D=0AAusbildungsbetrieben, 5 Fachschulen, 18 Hochschulen und 9=0D=0AInstitutionen führen. Die Fachmesse kann auch von jungen Menschen=0D=0Aohne terminierte Gespräche besucht werden. Zum weiteren Messeangebot=0D=0Agehören Vorträge zu Themen rund um Ausbildung und Studium. Auf der=0D=0Avocatium Lübeck gibt es zudem Informationen über das Freiwillige=0D=0ASoziale Jahr und das Ehrenamt.=0D=0A=0D=0AÜber das IfT Institut für Talententwicklung:=0D=0ADas IfT Institut für Talententwicklung ist seit 26 Jahren als=0D=0AWegbereiter für die berufliche Zukunft tätig – in allen=0D=0ABundesländern, an 75 Standorten und mit über 220 Mitarbeitenden. Das=0D=0AUnternehmen arbeitet mit 5.000 allgemeinbildenden Schulen und rund=0D=0A4.000 Unternehmen, Kammern und Verbänden, Fach- und Hochschulen sowie=0D=0AInstitutionen aus dem In- und Ausland zusammen. Der IfT-Hauptsitz ist=0D=0ABerlin. Alle Informationen zum IfT unter www.erfolg-im-beruf.de=0D=0A[https://www.erfolg-im-beruf.de].=0D=0A=0D=0AMi., 29.04.2026 - 08:30 bis 15:00 Uhr=0D=0ADo., 30.04.2026 - 08:30 bis 15:00 Uhr=0D=0A=0D=0ADER EINTRITT IST FREI.=0D=0A=0D=0AWeitere Informationen wie die Ausstellerliste, das Messehandbuch und=0D=0Adas Vortragsprogramm gibt es unter www.vocatium.de=0D=0A[https://www.vocatium.de].=0D=0A=0D=0AVeranstalter: IfT Institut für Talententwicklung GmbH=0D=0A
URL;VALUE=URI:https://hamburgwhl.infomaxnet.de/standard_widget_de/e-vocatium-fachmesse-fuer-ausbildungstudium?eventDateId=30169734&widgetToken=22vcqFKw4GE.&
CLASS:PUBLIC
DTSTART:20260430T083000
DTSTAMP:20260423T164034
END:VEVENT
END:VCALENDAR