BEGIN:VCALENDAR
VERSION:2.0
PRODID:http://www.infomax-online.de/imxeventmanager/
METHOD:PUBLISH
BEGIN:VTIMEZONE
TZID:Europe/Berlin
TZURL:http://tzurl.org/zoneinfo-outlook/Europe/Berlin
X-LIC-LOCATION:Europe/Berlin
END:VTIMEZONE
BEGIN:VEVENT
UID:69e604b8076df
LOCATION:Willy-Brandt-Allee 10, 23554 Lübeck
SUMMARY;ENCODING=QUOTED-PRINTABLE:Preisträgerkonzert „Jugend Musiziert“ | MUK.NEUE.HORIZONTE.
DESCRIPTION;ENCODING=QUOTED-PRINTABLE:MUK.NEUE.HORIZONTE.=0D=0APREISTRÄGERKONZERT „JUGEND MUSIZIERT“=0D=0A=0D=0ADie Landessieger:innen, die sich für das Bundesfinale „Jugend=0D=0AMusiziert“ qualifizieren konnten, stellen in diesem=0D=0APreisträgerkonzert ihr Können und ihre Spielfreude unter Beweis.=0D=0AErleben Sie einen inspirierenden Abend mit einem vielfältigen=0D=0AProgramm und lassen Sie sich begeistern von dem hohen musikalischen=0D=0ANiveau der jungen Künstler:innen.=0D=0A=0D=0AZu hören sind Instrumental- und Vokalwerke aus unterschiedlichen=0D=0AJahrhunderten, dargeboten in solistischer und kammermusikalischer=0D=0AForm.=0D=0A=0D=0APROGRAMM:=0D=0AHugo Wolf (1860-1903)                     =0D=0A Mausfallen-Sprüchlein        =0D=0AFranz Schubert (1797-1828)               Lachen und Weinen op.=0D=0A59,4=0D=0A=0D=0AErnst von Dohnányi (1877-1960)        Serenade C-Dur op. 10=0D=0A(Rondo. Finale – Allegro vivace)=0D=0A=0D=0AJohann Sebastian Bach (1685-1750)  Französische Suite Nr. 4 Es-Dur,=0D=0ABWV 815 (Allemande)=0D=0A=0D=0ARichard Klemm (1902-1988)               Bolero=0D=0A=0D=0ADaniel Reynolds u.a.                            Demons=0D=0A(Bearbeitung Eddie van der Meer)=0D=0ABenson Boone (2002)                           Beautiful=0D=0AThings=0D=0A=0D=0ARobert Schumann (1810-1856)           Erstes Grün op. 35,4=0D=0AHanns Eisler (1898-1962)                    Es geht eine=0D=0Adunkle Wolk’ herein=0D=0AWolfgang A. Mozart (1756-1791)         Arie des Papageno aus: Die=0D=0AZauberflöte KV 620=0D=0A=0D=0AChris Evan Hass (1993)                         Luminous=0D=0ASky=0D=0AShin’ya Takahashi (1962)                      Passion=0D=0A=0D=0AAUSFÜHRENDE:=0D=0AIda Bartsch, Sopran=0D=0AAlma Schmidt, Violoncello=0D=0ACarlo Schmidt, Viola=0D=0AEgmont Schmidt, Violine=0D=0ALiliia Kovalenko, Klavier=0D=0AGretje Peters, Violoncello=0D=0AGiovanna Fadenberger, Violoncello=0D=0AHelene Dossin, Violoncello=0D=0AIlana March, Violoncello=0D=0AFrieda Klindtwort, Gitarre=0D=0AJasper Bartsch, Bariton=0D=0AMax-Johannes Thorns, Saxophon=0D=0ATheodor Nabers, Saxophon=0D=0AJuliana Iblher, Saxophon=0D=0A=0D=0AEin Konzertprojekt aus der Konzertreihe "MUK.NEUE.HORIZONTE." in=0D=0AKooperation mit den Musik- und Orchesterfreunde Lübeck e.V.=0D=0A=0D=0AVeranstalter: Musik- und Kongresshalle Lübeck=0D=0A=0D=0AKarten gibt es im Vorverkauf für 15,00 €, erm. 10,00 € für=0D=0ABesucher:innen unter 30 Jahren inkl. Vvk-Gebühren bei tips&TICKETS=0D=0Aund über den MUK-Ticketshop.=0D=0A=0D=0ACopyright: Dirk Schönfeldt; LMR SH=0D=0A=0D=0A =0D=0A
URL;VALUE=URI:https://hamburgwhl.infomaxnet.de/standard_widget_de/e-preistraegerkonzert-jugend-musiziert-mukneuehorizonte?eventDateId=30169723&widgetToken=22vcqFKw4GE.&
CLASS:PUBLIC
DTSTART:20260420T190000
DTSTAMP:20260420T124928
END:VEVENT
END:VCALENDAR