BEGIN:VCALENDAR
VERSION:2.0
PRODID:http://www.infomax-online.de/imxeventmanager/
METHOD:PUBLISH
BEGIN:VTIMEZONE
TZID:Europe/Berlin
TZURL:http://tzurl.org/zoneinfo-outlook/Europe/Berlin
X-LIC-LOCATION:Europe/Berlin
END:VTIMEZONE
BEGIN:VEVENT
UID:69ea2f6603ddf
LOCATION:Willy-Brandt-Allee 10, 23554 Lübeck
SUMMARY;ENCODING=QUOTED-PRINTABLE:Energiewende von Nebenan | 7 Leuchttürme aus Lübeck | Mit=0D=0AImpulsvortrag von Markus Gürne
DESCRIPTION;ENCODING=QUOTED-PRINTABLE:GO.GRØØN - Auftaktveranstaltung=0D=0AENERGIEWENDE VON NEBENAN=0D=0A7 LEUCHTTÜRME AUS LÜBECK=0D=0AMit Impulsvortrag von Markus Gürne (ARD-Journalist)=0D=0A=0D=0ADie Klimaleitstelle der Hansestadt Lübeck und die Musik- und=0D=0AKongresshalle Lübeck gestalten gemeinsam die Auftaktveranstaltung zur=0D=0AGO.GRØØN – Messe für Nachhaltiges und Faires 2026. Joschka Knuth=0D=0A(Staatssekretär Ministerium für Energiewende, Klimaschutz, Umwelt=0D=0Aund Natur, Schleswig-Holstein) und Jan Lindenau (Bürgermeister der=0D=0AHansestadt Lübeck) begrüßen zur Auftaktveranstaltung der Messe am=0D=0AFreitag, 24.04.2026 um 17.00 Uhr im Konzertsaal der MUK. Im=0D=0AImpulsvortrag zur Energiewende Made in Germany zeigt der=0D=0AARD-Journalist Markus Gürne in einem weitergefassten Kontext=0D=0ALösungsmöglichkeiten zum erfolgreichen Umbau einer klimafreundlichen=0D=0AWirtschaft auf. Ganz konkret wird es anschließend mit den=0D=0ALeuchtturmprojekten=0D=0A[https://www.luebeck.de/de/stadtentwicklung/klima/7-leuchttuerme.html]=0D=0Ader Energiewende aus Lübeck, bei denen die engagierten Macher:innen=0D=0Ahinter den Projekten vorgestellt werden. An konkreten Beispielen zeigt=0D=0Asich, dass die Energiewende von nebenan bereits realisiert wird,=0D=0Amachbar und vernünftig ist und sich fürs Klima und für Lübeck=0D=0Alohnt.  =0D=0A=0D=0AMit dem Umbau der Wirtschaft hin zu einer klimafreundlichen mit=0D=0Aklimaneutralen Produkten will Deutschland seine Stellung als=0D=0AWeltmarktführer „Made in Germany“ an vielen Stellen behaupten.=0D=0AWas es dazu aber braucht, ist eine Energieversorgung, die die nötigen=0D=0AVoraussetzungen bietet. Eine Mammutaufgabe, denn zwischen=0D=0AAbhängigkeiten von ausländischen Rohstoffen bremst auch die deutsche=0D=0ABürokratie die Energiewende aus. Die Lösung für einen erfolgreichen=0D=0AAusbau der Marke Made in Germany liegt in den Regionen, bei den=0D=0AWeltmarktführern des Mittelstandes und den Energieunternehmen vor=0D=0AOrt, die Ihre Kunden und deren Erwartungen kennen und gemeinsam mit=0D=0Aihnen die Energiewende von nebenan gestalten.=0D=0A=0D=0AMarkus Gürne ist ARD-Journalist. Im Wechsel mit Anja Kohl berichtet=0D=0Aer in „Wirtschaft vor Acht" über die Finanzmärkte und das=0D=0AGeschehen an der Frankfurter Börse. Er moderiert darüber hinaus beim=0D=0AARD-Wirtschaftsmagazin „Plusminus" die hr-Ausgaben sowie bei phoenix=0D=0Adas „Forum Wirtschaft", das wichtigste Diskussionsformat für=0D=0AWirtschaftsthemen. Er studierte in Tübingen Rechtwissenschaften,=0D=0APolitikwissenschaften und Rhetorik, absolvierte ein Volontariat beim=0D=0ASWR und kam schließlich zur ARD. Für die hervorragende=0D=0AWirtschaftsberichterstattung in Corona-Zeiten erhielt er 2020 zusammen=0D=0Amit Marcus Niehaves den Ernst-Schneider-Sonderpreis. Als Redner auf=0D=0AUnternehmensveranstaltungen schöpft Markus Gürne aus seiner=0D=0Aumfassenden weltpolitischen Erfahrung.=0D=0A=0D=0AVeranstalter: Musik- und Kongresshalle Lübeck in Kooperation mit der=0D=0AKlimaleitstelle der Hansestadt Lübeck=0D=0A=0D=0AEINTRITT FREI.Hier buchen Sie ihre Freikarte=0D=0A[https://muk.online-ticket.de/energiewende-von-nebenan-markus-guerne-tickets-227.html?promotion=anmeldung].=0D=0A=0D=0AMehr Informationen zur GO.GRØØN - Messe für Nachhaltiges & Faires=0D=0Aauf www.gogroon.de [https://www.gogroon.de/].=0D=0A=0D=0ACopyright: Markus Gürne=0D=0A
URL;VALUE=URI:https://hamburgwhl.infomaxnet.de/standard_widget_de/e-energiewende-von-nebenan-7-leuchttuerme-aus-luebeck-mit-impulsvortrag-von-markus-guerne?eventDateId=30169721&widgetToken=22vcqFKw4GE.&
CLASS:PUBLIC
DTSTART:20260424T170000
DTSTAMP:20260423T164038
END:VEVENT
END:VCALENDAR