BEGIN:VCALENDAR
VERSION:2.0
PRODID:http://www.infomax-online.de/imxeventmanager/
METHOD:PUBLISH
BEGIN:VTIMEZONE
TZID:Europe/Berlin
TZURL:http://tzurl.org/zoneinfo-outlook/Europe/Berlin
X-LIC-LOCATION:Europe/Berlin
END:VTIMEZONE
BEGIN:VEVENT
UID:69ead1be3f731
LOCATION:Gollendorf 90, 23769 Fehmarn
SUMMARY;ENCODING=QUOTED-PRINTABLE:Live Session: Claus Diercks in Gollendorf
DESCRIPTION;ENCODING=QUOTED-PRINTABLE:Mit Claus Diercks begrüßen wir einen leidenschaftlichen Sänger,=0D=0AGitarristen und Mundharmonikaspieler aus Hamburg, der mit seiner=0D=0Amarkanten Blues-Stimme begeistert.=0D=0A=0D=0AFreut euch auf einen besonderen musikalischen Abend bei uns im Café=0D=0Ain Gollendorf!=0D=0AMit Claus Diercks begrüßen wir einen leidenschaftlichen Sänger,=0D=0AGitarristen und Mundharmonikaspieler aus Hamburg, der mit seiner=0D=0Amarkanten Blues-Stimme begeistert.=0D=0ABekannt wurde er durch seine Teilnahme an The Voice of Germany und=0D=0Aerreichte 2019 das Finale von „The Voice Senior“ im Team von=0D=0ASasha.=0D=0AFreut euch auf handgemachte Musik, gefühlvolle Songs und eine=0D=0Aeinzigartige Atmosphäre – live bei uns im Café!=0D=0A
URL;VALUE=URI:https://hamburgwhl.infomaxnet.de/standard_widget_de/e-live-session-claus-diercks-in-gollendorf?eventDateId=30169720&widgetToken=22vcqFKw4GE.&
CLASS:PUBLIC
DTSTART:20260424T180000
DTSTAMP:20260424T041318
END:VEVENT
END:VCALENDAR