BEGIN:VCALENDAR
VERSION:2.0
PRODID:http://www.infomax-online.de/imxeventmanager/
METHOD:PUBLISH
BEGIN:VTIMEZONE
TZID:Europe/Berlin
TZURL:http://tzurl.org/zoneinfo-outlook/Europe/Berlin
X-LIC-LOCATION:Europe/Berlin
END:VTIMEZONE
BEGIN:VEVENT
UID:69eb0db8bd307
LOCATION:Gollendorf 90, 23769 Fehmarn
SUMMARY;ENCODING=QUOTED-PRINTABLE:Daniel Hoppenstedt – Live & Looping
DESCRIPTION;ENCODING=QUOTED-PRINTABLE:Mit Liveloops baut Daniel seine Tracks live vor euren Augen auf –=0D=0ASchicht für Schicht entsteht ein einzigartiger Sound=0D=0A=0D=0ALive-Musik bei uns im Café in Gollendorf =0D=0AFreut euch auf Daniel Hoppenstedt – Gitarrist und Popsänger mit=0D=0Aeinem ganz besonderen Sound. Neben bekannten Covers bringt er auch=0D=0Aeigene Songs auf die Bühne.=0D=0ADas Highlight: Mit Liveloops baut Daniel seine Tracks live vor euren=0D=0AAugen auf – Schicht für Schicht entsteht ein einzigartiger Sound.=0D=0ADazu kommt sein besonderes Instrument, die Pedal Steel, die für einen=0D=0Aganz eigenen, atmosphärischen Klang sorgt.=0D=0AEin Abend voller moderner Vibes, kreativer Sounds und entspannter=0D=0ACafé-Atmosphäre.=0D=0AKommt vorbei und erlebt Musik mal ein bisschen anders!=0D=0A
URL;VALUE=URI:https://hamburgwhl.infomaxnet.de/standard_widget_de/e-daniel-hoppenstedt-live-looping?eventDateId=30169719&widgetToken=22vcqFKw4GE.&
CLASS:PUBLIC
DTSTART:20260501T180000
DTSTAMP:20260424T082912
END:VEVENT
END:VCALENDAR