BEGIN:VCALENDAR
VERSION:2.0
PRODID:http://www.infomax-online.de/imxeventmanager/
METHOD:PUBLISH
BEGIN:VTIMEZONE
TZID:Europe/Berlin
TZURL:http://tzurl.org/zoneinfo-outlook/Europe/Berlin
X-LIC-LOCATION:Europe/Berlin
END:VTIMEZONE
BEGIN:VEVENT
UID:69e9398dae554
LOCATION:Am Markt 14, 19055 Schwerin
SUMMARY;ENCODING=QUOTED-PRINTABLE:Lesung und Gespräch mit Grit Poppe am 24.04.2026
DESCRIPTION;ENCODING=QUOTED-PRINTABLE:Lesung und Gespräch mit Grit Poppe am Freitag, den 24. April, 18 Uhr=0D=0Aim Demmlersaal des Schweriner Rathauses.=0D=0A=0D=0ADie Fraktion Bündnis 90/Die Grünen/Die PARTEI lädt am Freitag, den=0D=0A24. April, 18 Uhr in den Demmlersaal des Schweriner Rathauses zu einer=0D=0ALesung und zu einem Gespräch mit der Autorin und Schriftstellerin=0D=0AGrit Poppe. Die bereits mehrfach für ihre Bücher prämierte Autorin=0D=0Awird aus ihrem mit Niklas Poppe herausgebrachten=0D=0ASachbuch„verschleppt, verbannt, verschwunden – Deutsche=0D=0AKriegsjugend in Stalins Lagern und Gefängnissen“ lesen.=0D=0AAnschließend gibt es ein moderiertes Gespräch über die=0D=0AHintergründe des Buches. =0D=0A=0D=0AGrit und Niklas Poppe berichten von den Schicksalen Jugendlicher und=0D=0Ajunger Erwachsener, die nach der NS-Zeit in der Sowjetischen=0D=0ABesatzungszone und der frühen DDR in die Fänge des sowjetischen=0D=0AGeheimdienstes gerieten, verhaftet, verschleppt oder ermordet wurden.=0D=0AEs sind Leidensgeschichten und Hafterlebnisse Betroffener, die=0D=0Aunschuldig und oft Jahre in einem der Speziallager der Sowjets und im=0D=0AGulag verbringen mussten. Nicht wenige kamen um. Das Erlebte der zu=0D=0AUnrecht Inhaftierten wird so wiedergegeben, dass deutlich wird, wie=0D=0Aschwer und nachhaltig Menschenwürde und Menschenrechte verletzt=0D=0Awurden. Den Menschen, die in ihren jungen Jahren unter der Verfolgung=0D=0Adurch die sowjetische Besatzungsmacht litten, ist dieser Band=0D=0Agewidmet.=0D=0A=0D=0ADer Eintritt zur Veranstaltung ist kostenfrei. Eine Voranmeldung ist=0D=0Anicht erforderlich. =0D=0A=0D=0ATel: 0385 545-2970=0D=0A
URL;VALUE=URI:https://hamburgwhl.infomaxnet.de/standard_widget_de/e-lesung-und-gespraech-mit-grit-poppe-am-24042026?eventDateId=30167938&widgetToken=22vcqFKw4GE.&
CLASS:PUBLIC
DTSTART:20260424T180000
DTSTAMP:20260422T231141
END:VEVENT
END:VCALENDAR