BEGIN:VCALENDAR
VERSION:2.0
PRODID:http://www.infomax-online.de/imxeventmanager/
METHOD:PUBLISH
BEGIN:VTIMEZONE
TZID:Europe/Berlin
TZURL:http://tzurl.org/zoneinfo-outlook/Europe/Berlin
X-LIC-LOCATION:Europe/Berlin
END:VTIMEZONE
BEGIN:VEVENT
UID:69e8b6927ad23
LOCATION:Johannes-Stelling-Straße 29, 19053 Schwerin
SUMMARY;ENCODING=QUOTED-PRINTABLE:„Das deutsch-russische Jahrhundert“
DESCRIPTION;ENCODING=QUOTED-PRINTABLE:Vortrag mit Prof. Dr. Stefan Creuzberger=0D=0A=0D=0A =0D=0A=0D=0ARusslands menschenverachtende Politik unter Präsident Putin=0D=0Agegenüber der Ukraine hat in Deutschland Diskussionen über eine=0D=0ANeubestimmung des deutsch-russischen Verhältnisses ausgelöst. Am 28.=0D=0AApril spricht der Rostocker Zeithistoriker Stefan Creuzberger ab 18=0D=0AUhr in der Landesbibliothek zu seinem Buch „Das deutsch-russische=0D=0AJahrhundert“, das die spannungsreiche Geschichte der Beziehungen=0D=0Azwischen Deutschland und Russland nachzeichnet und in seinem=0D=0AErscheinungsjahr 2022 für den Deutschen Sachbuchpreis nominiert war.=0D=0AVon der Russischen Revolution über den Hitler-Stalin-Pakt, Stalingrad=0D=0Aund den Kalten Krieg bis hin zu Mauerfall, Wiedervereinigung und=0D=0Aaktuellen Konflikten wie der Krim-Annexion und Nord Stream 2 spannt=0D=0ACreuzberger den Bogen. Eine wichtige historische Auseinandersetzung=0D=0Amit dieser epochalen Verbindung, die das Weltgeschehen immer wieder=0D=0Abestimmte. So liefert der Autor einen relevanten Beitrag zur aktuellen=0D=0ADiskussion.=0D=0A=0D=0A =0D=0A=0D=0ADie Veranstaltung findet im Rahmen der Wanderausstellung „Das andere=0D=0ARussland. MEMORIAL: Der Kampf um historische Wahrheit und=0D=0ADemokratie“=0D=0A[https://www.dokumentationszentrum-schwerin.de/ausstellungen/sonderausstellung]=0D=0Astatt, die noch bis zum 30. April im Dokumentationszentrum des Landes=0D=0Afür die Opfer der Diktaturen in Deutschland=0D=0A[https://www.dokumentationszentrum-schwerin.de/] besucht werden kann.=0D=0A
URL;VALUE=URI:https://hamburgwhl.infomaxnet.de/standard_widget_de/e-das-deutsch-russische-jahrhundert?eventDateId=30167935&widgetToken=22vcqFKw4GE.&
CLASS:PUBLIC
DTSTART:20260428T180000
DTSTAMP:20260422T135250
END:VEVENT
END:VCALENDAR