BEGIN:VCALENDAR
VERSION:2.0
PRODID:http://www.infomax-online.de/imxeventmanager/
METHOD:PUBLISH
BEGIN:VTIMEZONE
TZID:Europe/Berlin
TZURL:http://tzurl.org/zoneinfo-outlook/Europe/Berlin
X-LIC-LOCATION:Europe/Berlin
END:VTIMEZONE
BEGIN:VEVENT
UID:69e785185d9ff
LOCATION:Lutterothstraße 5, 20255 Hamburg
SUMMARY;ENCODING=QUOTED-PRINTABLE:Lateinamerika trifft Jazz: Duo Corbalán & Barreto live erleben!
DESCRIPTION;ENCODING=QUOTED-PRINTABLE:Der paraguayische Harfenist Juanjo Corbalán und die Saxophonistin und=0D=0ASängerin Lara Barreto laden zu einem besonderen Konzerterlebnis ein:=0D=0AIn ihrem Duo entfaltet sich ein lebendiger Dialog zwischen Harfe,=0D=0ASaxophon und Stimme.=0D=0A=0D=0AZwischen lateinamerikanischer Folklore, Jazz und zeitgenössischer=0D=0AMusik entsteht ein farbenreiches Klangspektrum voller Nuancen und=0D=0AKontraste. Virtuosität trifft auf Ausdruckskraft, traditionelle=0D=0AKlänge verbinden sich mit improvisatorischer Freiheit.=0D=0A=0D=0AFreuen Sie sich auf ein ebenso intimes wie kraftvolles Programm mit=0D=0AOriginalkompositionen und feinfühligen Arrangements – geprägt von=0D=0Arhythmischer Vielfalt, musikalischer Tiefe und der besonderen=0D=0AKlangwelt der paraguayischen Harfe.=0D=0A=0D=0AKarten im Café Deike, VK 15€, AK 16€=0D=0A
URL;VALUE=URI:https://hamburgwhl.infomaxnet.de/standard_widget_de/e-lateinamerika-trifft-jazz-duo-corbalan-barreto-live-erleben?eventDateId=30167843&widgetToken=22vcqFKw4GE.&
CLASS:PUBLIC
DTSTART:20260421T193000
DTSTAMP:20260421T160928
END:VEVENT
END:VCALENDAR